{"text_format":"3","workbook":"xlsx","n_sheets":8,"sheets":["Welcome","Periodic table","PTSearch","Elements","Compound list","Compound properties","Practice","Do more"],"not_rendered":{"images":23,"defined_names":9},"read":"whole","date_system":"1900"}

{"sheet":"Welcome","index":0,"n_rows":16,"n_cols":16,"rows_kept":16,"merged":[[3,1,3,11],[6,2,6,4],[6,8,6,10],[6,14,6,16],[11,2,11,4],[11,8,11,10],[11,14,11,16],[15,1,15,5]]}
[null,null,"Refresh the workbook whenever you want to get the most up-to-date data for this template. Go to the Data tab  > Refresh All."]
[]
[null,"Periodic table"]
[null,"Whether you're working on a school project or simply curious about science, this list will help you discover the fundamentals of chemistry. "]
[]
[]
[null,null,"Search and interact with the periodic table",{"$nulls":5},"Compare elemental properties",{"$nulls":5},"Track chemical compounds"]
[{"$nulls":3},"Periodic table",{"$nulls":5},"Elements",{"$nulls":5},"Compound list"]
[]
[]
[]
[null,null,"Explore chemical compound properties",{"$nulls":5},"Show your understanding",{"$nulls":5},"Do more with data types"]
[{"$nulls":3},"Compound properties",{"$nulls":5},"Practice",{"$nulls":5},"Do more"]
[]
[]
[null,"Give feedback to help us improve this template"]

{"sheet":"Periodic table","index":1,"n_rows":50,"n_cols":38,"rows_kept":50,"merged":[[12,9,12,13],[12,19,12,23]]}
[]
[]
[null,"Periodic table"]
[null,"Use the search and property filters to explore interesting patterns and highlight data. "]
[null,null,"Group",1,null,2,null,3,null,4,null,5,null,6,null,7,null,8,null,9,null,10,null,11,null,12,null,13,null,14,null,15,null,16,null,17,null,18]
[null,"Period"]
[{"$nulls":3},1,{"$nulls":33},2]
[null,1,null,"H",{"$nulls":33},"He"]
[{"$nulls":3},{"$f":"_xlfn.XLOOKUP(D8,Table1[Atomic symbol],Table1[Element])","v":{"$error":"#VALUE!"}},{"$nulls":33},{"$f":"_xlfn.SINGLE(_xlfn.XLOOKUP(AL8,Table1[Atomic symbol],Table1[Element]))","v":{"$error":"#VALUE!"}}]
[{"$nulls":3},{"$f":"IFERROR(_xlfn.FIELDVALUE(_xlfn.XLOOKUP(D8,Table1[Atomic symbol],Table1[Element]),pt_color),\"\")","v":75},{"$nulls":5},"Search the periodic table:",{"$nulls":9},"Select a property to highlight in the table:",{"$nulls":17},{"$f":"IFERROR(_xlfn.FIELDVALUE(_xlfn.XLOOKUP(AL8,Table1[Atomic symbol],Table1[Element]),pt_color),\"\")","v":{"v":23,"d":"23.000"}}]
[]
[{"$nulls":3},3,null,4,{"$nulls":21},5,null,6,null,7,null,8,null,9,null,10]
[null,2,null,"Li",null,"Be",{"$nulls":13},"Universe Abundance",{"$nulls":7},"B",null,"C",null,"N",null,"O",null,"F",null,"Ne"]
[{"$nulls":3},{"$f":"_xlfn.XLOOKUP(D13,Table1[Atomic symbol],Table1[Element])","v":{"$error":"#VALUE!"}},null,{"$f":"_xlfn.XLOOKUP(F13,Table1[Atomic symbol],Table1[Element])","v":{"$error":"#VALUE!"}},{"$nulls":3},"Enter a name, symbol, or number.",{"$nulls":17},{"$f":"_xlfn.SINGLE(_xlfn.XLOOKUP(AB13,Table1[Atomic symbol],Table1[Element]))","v":{"$error":"#VALUE!"}},null,{"$f":"_xlfn.SINGLE(_xlfn.XLOOKUP(AD13,Table1[Atomic symbol],Table1[Element]))","v":{"$error":"#VALUE!"}},null,{"$f":"_xlfn.SINGLE(_xlfn.XLOOKUP(AF13,Table1[Atomic symbol],Table1[Element]))","v":{"$error":"#VALUE!"}},null,{"$f":"_xlfn.SINGLE(_xlfn.XLOOKUP(AH13,Table1[Atomic symbol],Table1[Element]))","v":{"$error":"#VALUE!"}},null,{"$f":"_xlfn.SINGLE(_xlfn.XLOOKUP(AJ13,Table1[Atomic symbol],Table1[Element]))","v":{"$error":"#VALUE!"}},null,{"$f":"_xlfn.SINGLE(_xlfn.XLOOKUP(AL13,Table1[Atomic symbol],Table1[Element]))","v":{"$error":"#VALUE!"}}]
[{"$nulls":3},{"$f":"IFERROR(_xlfn.FIELDVALUE(_xlfn.XLOOKUP(D13,Table1[Atomic symbol],Table1[Element]),pt_color),\"\")","v":6.0000000000001458E-7},null,{"$f":"IFERROR(_xlfn.FIELDVALUE(_xlfn.XLOOKUP(F13,Table1[Atomic symbol],Table1[Element]),pt_color),\"\")","v":{"v":1e-07,"d":"0.000"}},{"$nulls":21},{"$f":"IFERROR(_xlfn.FIELDVALUE(_xlfn.XLOOKUP(AB13,Table1[Atomic symbol],Table1[Element]),pt_color),\"\")","v":{"v":1e-07,"d":"0.000"}},null,{"$f":"IFERROR(_xlfn.FIELDVALUE(_xlfn.XLOOKUP(AD13,Table1[Atomic symbol],Table1[Element]),pt_color),\"\")","v":{"v":0.5,"d":"0.500"}},null,{"$f":"IFERROR(_xlfn.FIELDVALUE(_xlfn.XLOOKUP(AF13,Table1[Atomic symbol],Table1[Element]),pt_color),\"\")","v":{"v":0.1,"d":"0.100"}},null,{"$f":"IFERROR(_xlfn.FIELDVALUE(_xlfn.XLOOKUP(AH13,Table1[Atomic symbol],Table1[Element]),pt_color),\"\")","v":{"v":1,"d":"1.000"}},null,{"$f":"IFERROR(_xlfn.FIELDVALUE(_xlfn.XLOOKUP(AJ13,Table1[Atomic symbol],Table1[Element]),pt_color),\"\")","v":{"v":4.0000000000000972E-5,"d":"0.000"}},null,{"$f":"IFERROR(_xlfn.FIELDVALUE(_xlfn.XLOOKUP(AL13,Table1[Atomic symbol],Table1[Element]),pt_color),\"\")","v":{"v":0.13,"d":"0.130"}}]
[]
[{"$nulls":3},11,null,12,{"$nulls":21},13,null,14,null,15,null,16,null,17,null,18]
[null,3,null,"Na",null,"Mg",{"$nulls":21},"Al",null,"Si",null,"P",null,"S",null,"Cl",null,"Ar"]
[{"$nulls":3},{"$f":"_xlfn.SINGLE(_xlfn.XLOOKUP(D18,Table1[Atomic symbol],Table1[Element]))","v":{"$error":"#VALUE!"}},null,{"$f":"_xlfn.SINGLE(_xlfn.XLOOKUP(F18,Table1[Atomic symbol],Table1[Element]))","v":{"$error":"#VALUE!"}},{"$nulls":21},{"$f":"_xlfn.SINGLE(_xlfn.XLOOKUP(AB18,Table1[Atomic symbol],Table1[Element]))","v":{"$error":"#VALUE!"}},null,{"$f":"_xlfn.SINGLE(_xlfn.XLOOKUP(AD18,Table1[Atomic symbol],Table1[Element]))","v":{"$error":"#VALUE!"}},null,{"$f":"_xlfn.SINGLE(_xlfn.XLOOKUP(AF18,Table1[Atomic symbol],Table1[Element]))","v":{"$error":"#VALUE!"}},null,{"$f":"_xlfn.SINGLE(_xlfn.XLOOKUP(AH18,Table1[Atomic symbol],Table1[Element]))","v":{"$error":"#VALUE!"}},null,{"$f":"_xlfn.SINGLE(_xlfn.XLOOKUP(AJ18,Table1[Atomic symbol],Table1[Element]))","v":{"$error":"#VALUE!"}},null,{"$f":"_xlfn.SINGLE(_xlfn.XLOOKUP(AL18,Table1[Atomic symbol],Table1[Element]))","v":{"$error":"#VALUE!"}}]
[{"$nulls":3},{"$f":"IFERROR(_xlfn.FIELDVALUE(_xlfn.XLOOKUP(D18,Table1[Atomic symbol],Table1[Element]),pt_color),\"\")","v":{"v":2E-3,"d":"0.002"}},null,{"$f":"IFERROR(_xlfn.FIELDVALUE(_xlfn.XLOOKUP(F18,Table1[Atomic symbol],Table1[Element]),pt_color),\"\")","v":{"v":0.06,"d":"0.060"}},{"$nulls":21},{"$f":"IFERROR(_xlfn.FIELDVALUE(_xlfn.XLOOKUP(AB18,Table1[Atomic symbol],Table1[Element]),pt_color),\"\")","v":{"v":0.005000000000000003,"d":"0.005"}},null,{"$f":"IFERROR(_xlfn.FIELDVALUE(_xlfn.XLOOKUP(AD18,Table1[Atomic symbol],Table1[Element]),pt_color),\"\")","v":{"v":0.06999999999999999,"d":"0.070"}},null,{"$f":"IFERROR(_xlfn.FIELDVALUE(_xlfn.XLOOKUP(AF18,Table1[Atomic symbol],Table1[Element]),pt_color),\"\")","v":{"v":7.0000000000000075E-4,"d":"0.001"}},null,{"$f":"IFERROR(_xlfn.FIELDVALUE(_xlfn.XLOOKUP(AH18,Table1[Atomic symbol],Table1[Element]),pt_color),\"\")","v":{"v":0.05,"d":"0.050"}},null,{"$f":"IFERROR(_xlfn.FIELDVALUE(_xlfn.XLOOKUP(AJ18,Table1[Atomic symbol],Table1[Element]),pt_color),\"\")","v":{"v":1.0000000000000238E-4,"d":"0.000"}},null,{"$f":"IFERROR(_xlfn.FIELDVALUE(_xlfn.XLOOKUP(AL18,Table1[Atomic symbol],Table1[Element]),pt_color),\"\")","v":{"v":0.019999999999999997,"d":"0.020"}}]
[]
[{"$nulls":3},19,null,20,null,21,null,22,null,23,null,24,null,25,null,26,null,27,null,28,null,29,null,30,null,31,null,32,null,33,null,34,null,35,null,36]
[null,4,null,"K",null,"Ca",null,"Sc",null,"Ti",null,"V",null,"Cr",null,"Mn",null,"Fe",null,"Co",null,"Ni",null,"Cu",null,"Zn",null,"Ga",null,"Ge",null,"As",null,"Se",null,"Br",null,"Kr"]
[{"$nulls":3},{"$f":"_xlfn.SINGLE(_xlfn.XLOOKUP(D23,Table1[Atomic symbol],Table1[Element]))","v":{"$error":"#VALUE!"}},null,{"$f":"_xlfn.SINGLE(_xlfn.XLOOKUP(F23,Table1[Atomic symbol],Table1[Element]))","v":{"$error":"#VALUE!"}},null,{"$f":"_xlfn.SINGLE(_xlfn.XLOOKUP(H23,Table1[Atomic symbol],Table1[Element]))","v":{"$error":"#VALUE!"}},null,{"$f":"_xlfn.SINGLE(_xlfn.XLOOKUP(J23,Table1[Atomic symbol],Table1[Element]))","v":{"$error":"#VALUE!"}},null,{"$f":"_xlfn.SINGLE(_xlfn.XLOOKUP(L23,Table1[Atomic symbol],Table1[Element]))","v":{"$error":"#VALUE!"}},null,{"$f":"_xlfn.SINGLE(_xlfn.XLOOKUP(N23,Table1[Atomic symbol],Table1[Element]))","v":{"$error":"#VALUE!"}},null,{"$f":"_xlfn.SINGLE(_xlfn.XLOOKUP(P23,Table1[Atomic symbol],Table1[Element]))","v":{"$error":"#VALUE!"}},null,{"$f":"_xlfn.SINGLE(_xlfn.XLOOKUP(R23,Table1[Atomic symbol],Table1[Element]))","v":{"$error":"#VALUE!"}},null,{"$f":"_xlfn.SINGLE(_xlfn.XLOOKUP(T23,Table1[Atomic symbol],Table1[Element]))","v":{"$error":"#VALUE!"}},null,{"$f":"_xlfn.SINGLE(_xlfn.XLOOKUP(V23,Table1[Atomic symbol],Table1[Element]))","v":{"$error":"#VALUE!"}},null,{"$f":"_xlfn.SINGLE(_xlfn.XLOOKUP(X23,Table1[Atomic symbol],Table1[Element]))","v":{"$error":"#VALUE!"}},null,{"$f":"_xlfn.SINGLE(_xlfn.XLOOKUP(Z23,Table1[Atomic symbol],Table1[Element]))","v":{"$error":"#VALUE!"}},null,{"$f":"_xlfn.SINGLE(_xlfn.XLOOKUP(AB23,Table1[Atomic symbol],Table1[Element]))","v":{"$error":"#VALUE!"}},null,{"$f":"_xlfn.SINGLE(_xlfn.XLOOKUP(AD23,Table1[Atomic symbol],Table1[Element]))","v":{"$error":"#VALUE!"}},null,{"$f":"_xlfn.SINGLE(_xlfn.XLOOKUP(AF23,Table1[Atomic symbol],Table1[Element]))","v":{"$error":"#VALUE!"}},null,{"$f":"_xlfn.SINGLE(_xlfn.XLOOKUP(AH23,Table1[Atomic symbol],Table1[Element]))","v":{"$error":"#VALUE!"}},null,{"$f":"_xlfn.SINGLE(_xlfn.XLOOKUP(AJ23,Table1[Atomic symbol],Table1[Element]))","v":{"$error":"#VALUE!"}},null,{"$f":"_xlfn.SINGLE(_xlfn.XLOOKUP(AL23,Table1[Atomic symbol],Table1[Element]))","v":{"$error":"#VALUE!"}}]
[{"$nulls":3},{"$f":"IFERROR(_xlfn.FIELDVALUE(_xlfn.XLOOKUP(D23,Table1[Atomic symbol],Table1[Element]),pt_color),\"\")","v":{"v":3.0000000000000193E-4,"d":"0.000"}},null,{"$f":"IFERROR(_xlfn.FIELDVALUE(_xlfn.XLOOKUP(F23,Table1[Atomic symbol],Table1[Element]),pt_color),\"\")","v":{"v":0.007000000000000002,"d":"0.007"}},null,{"$f":"IFERROR(_xlfn.FIELDVALUE(_xlfn.XLOOKUP(H23,Table1[Atomic symbol],Table1[Element]),pt_color),\"\")","v":{"v":2.9999999999983924E-6,"d":"0.000"}},null,{"$f":"IFERROR(_xlfn.FIELDVALUE(_xlfn.XLOOKUP(J23,Table1[Atomic symbol],Table1[Element]),pt_color),\"\")","v":{"v":3.0000000000000193E-4,"d":"0.000"}},null,{"$f":"IFERROR(_xlfn.FIELDVALUE(_xlfn.XLOOKUP(L23,Table1[Atomic symbol],Table1[Element]),pt_color),\"\")","v":{"v":1.0000000000000238E-4,"d":"0.000"}},null,{"$f":"IFERROR(_xlfn.FIELDVALUE(_xlfn.XLOOKUP(N23,Table1[Atomic symbol],Table1[Element]),pt_color),\"\")","v":{"v":1.4999999999999985E-3,"d":"0.002"}},null,{"$f":"IFERROR(_xlfn.FIELDVALUE(_xlfn.XLOOKUP(P23,Table1[Atomic symbol],Table1[Element]),pt_color),\"\")","v":{"v":7.9999999999999776E-4,"d":"0.001"}},null,{"$f":"IFERROR(_xlfn.FIELDVALUE(_xlfn.XLOOKUP(R23,Table1[Atomic symbol],Table1[Element]),pt_color),\"\")","v":{"v":0.11,"d":"0.110"}},null,{"$f":"IFERROR(_xlfn.FIELDVALUE(_xlfn.XLOOKUP(T23,Table1[Atomic symbol],Table1[Element]),pt_color),\"\")","v":{"v":3.0000000000000193E-4,"d":"0.000"}},null,{"$f":"IFERROR(_xlfn.FIELDVALUE(_xlfn.XLOOKUP(V23,Table1[Atomic symbol],Table1[Element]),pt_color),\"\")","v":{"v":0.005999999999999999,"d":"0.006"}},null,{"$f":"IFERROR(_xlfn.FIELDVALUE(_xlfn.XLOOKUP(X23,Table1[Atomic symbol],Table1[Element]),pt_color),\"\")","v":{"v":6.0000000000023142E-6,"d":"0.000"}},null,{"$f":"IFERROR(_xlfn.FIELDVALUE(_xlfn.XLOOKUP(Z23,Table1[Atomic symbol],Table1[Element]),pt_color),\"\")","v":{"v":3.0000000000000675E-5,"d":"0.000"}},null,{"$f":"IFERROR(_xlfn.FIELDVALUE(_xlfn.XLOOKUP(AB23,Table1[Atomic symbol],Table1[Element]),pt_color),\"\")","v":{"v":1.0000000000000243E-6,"d":"0.000"}},null,{"$f":"IFERROR(_xlfn.FIELDVALUE(_xlfn.XLOOKUP(AD23,Table1[Atomic symbol],Table1[Element]),pt_color),\"\")","v":{"v":2.0000000000000486E-5,"d":"0.000"}},null,{"$f":"IFERROR(_xlfn.FIELDVALUE(_xlfn.XLOOKUP(AF23,Table1[Atomic symbol],Table1[Element]),pt_color),\"\")","v":{"v":8.0000000000001945E-7,"d":"0.000"}},null,{"$f":"IFERROR(_xlfn.FIELDVALUE(_xlfn.XLOOKUP(AH23,Table1[Atomic symbol],Table1[Element]),pt_color),\"\")","v":{"v":2.9999999999983924E-6,"d":"0.000"}},null,{"$f":"IFERROR(_xlfn.FIELDVALUE(_xlfn.XLOOKUP(AJ23,Table1[Atomic symbol],Table1[Element]),pt_color),\"\")","v":{"v":7.00000000000017e-07,"d":"0.000"}},null,{"$f":"IFERROR(_xlfn.FIELDVALUE(_xlfn.XLOOKUP(AL23,Table1[Atomic symbol],Table1[Element]),pt_color),\"\")","v":{"v":3.9999999999978746E-6,"d":"0.000"}}]
[]
[{"$nulls":3},37,null,38,null,39,null,40,null,41,null,42,null,43,null,44,null,45,null,46,null,47,null,48,null,49,null,50,null,51,null,52,null,53,null,54]
[null,5,null,"Rb",null,"Sr",null,"Y",null,"Zr",null,"Nb",null,"Mo",null,"Tc",null,"Ru",null,"Rh",null,"Pd",null,"Ag",null,"Cd",null,"In",null,"Sn",null,"Sb",null,"Te",null,"I",null,"Xe"]
[{"$nulls":3},{"$f":"_xlfn.SINGLE(_xlfn.XLOOKUP(D28,Table1[Atomic symbol],Table1[Element]))","v":{"$error":"#VALUE!"}},null,{"$f":"_xlfn.SINGLE(_xlfn.XLOOKUP(F28,Table1[Atomic symbol],Table1[Element]))","v":{"$error":"#VALUE!"}},null,{"$f":"_xlfn.SINGLE(_xlfn.XLOOKUP(H28,Table1[Atomic symbol],Table1[Element]))","v":{"$error":"#VALUE!"}},null,{"$f":"_xlfn.SINGLE(_xlfn.XLOOKUP(J28,Table1[Atomic symbol],Table1[Element]))","v":{"$error":"#VALUE!"}},null,{"$f":"_xlfn.SINGLE(_xlfn.XLOOKUP(L28,Table1[Atomic symbol],Table1[Element]))","v":{"$error":"#VALUE!"}},null,{"$f":"_xlfn.SINGLE(_xlfn.XLOOKUP(N28,Table1[Atomic symbol],Table1[Element]))","v":{"$error":"#VALUE!"}},null,{"$f":"_xlfn.SINGLE(_xlfn.XLOOKUP(P28,Table1[Atomic symbol],Table1[Element]))","v":{"$error":"#VALUE!"}},null,{"$f":"_xlfn.SINGLE(_xlfn.XLOOKUP(R28,Table1[Atomic symbol],Table1[Element]))","v":{"$error":"#VALUE!"}},null,{"$f":"_xlfn.SINGLE(_xlfn.XLOOKUP(T28,Table1[Atomic symbol],Table1[Element]))","v":{"$error":"#VALUE!"}},null,{"$f":"_xlfn.SINGLE(_xlfn.XLOOKUP(V28,Table1[Atomic symbol],Table1[Element]))","v":{"$error":"#VALUE!"}},null,{"$f":"_xlfn.SINGLE(_xlfn.XLOOKUP(X28,Table1[Atomic symbol],Table1[Element]))","v":{"$error":"#VALUE!"}},null,{"$f":"_xlfn.SINGLE(_xlfn.XLOOKUP(Z28,Table1[Atomic symbol],Table1[Element]))","v":{"$error":"#VALUE!"}},null,{"$f":"_xlfn.SINGLE(_xlfn.XLOOKUP(AB28,Table1[Atomic symbol],Table1[Element]))","v":{"$error":"#VALUE!"}},null,{"$f":"_xlfn.SINGLE(_xlfn.XLOOKUP(AD28,Table1[Atomic symbol],Table1[Element]))","v":{"$error":"#VALUE!"}},null,{"$f":"_xlfn.SINGLE(_xlfn.XLOOKUP(AF28,Table1[Atomic symbol],Table1[Element]))","v":{"$error":"#VALUE!"}},null,{"$f":"_xlfn.SINGLE(_xlfn.XLOOKUP(AH28,Table1[Atomic symbol],Table1[Element]))","v":{"$error":"#VALUE!"}},null,{"$f":"_xlfn.SINGLE(_xlfn.XLOOKUP(AJ28,Table1[Atomic symbol],Table1[Element]))","v":{"$error":"#VALUE!"}},null,{"$f":"_xlfn.SINGLE(_xlfn.XLOOKUP(AL28,Table1[Atomic symbol],Table1[Element]))","v":{"$error":"#VALUE!"}}]
[{"$nulls":3},{"$f":"IFERROR(_xlfn.FIELDVALUE(_xlfn.XLOOKUP(D28,Table1[Atomic symbol],Table1[Element]),pt_color),\"\")","v":{"v":1.0000000000000243E-6,"d":"0.000"}},null,{"$f":"IFERROR(_xlfn.FIELDVALUE(_xlfn.XLOOKUP(F28,Table1[Atomic symbol],Table1[Element]),pt_color),\"\")","v":{"v":3.9999999999978746E-6,"d":"0.000"}},null,{"$f":"IFERROR(_xlfn.FIELDVALUE(_xlfn.XLOOKUP(H28,Table1[Atomic symbol],Table1[Element]),pt_color),\"\")","v":{"v":7.00000000000017e-07,"d":"0.000"}},null,{"$f":"IFERROR(_xlfn.FIELDVALUE(_xlfn.XLOOKUP(J28,Table1[Atomic symbol],Table1[Element]),pt_color),\"\")","v":{"v":4.999999999997411E-6,"d":"0.000"}},null,{"$f":"IFERROR(_xlfn.FIELDVALUE(_xlfn.XLOOKUP(L28,Table1[Atomic symbol],Table1[Element]),pt_color),\"\")","v":{"v":2.0000000000000486E-7,"d":"0.000"}},null,{"$f":"IFERROR(_xlfn.FIELDVALUE(_xlfn.XLOOKUP(N28,Table1[Atomic symbol],Table1[Element]),pt_color),\"\")","v":{"v":5.0000000000001215E-7,"d":"0.000"}},null,{"$f":"IFERROR(_xlfn.FIELDVALUE(_xlfn.XLOOKUP(P28,Table1[Atomic symbol],Table1[Element]),pt_color),\"\")","v":""},null,{"$f":"IFERROR(_xlfn.FIELDVALUE(_xlfn.XLOOKUP(R28,Table1[Atomic symbol],Table1[Element]),pt_color),\"\")","v":{"v":4.0000000000000972E-7,"d":"0.000"}},null,{"$f":"IFERROR(_xlfn.FIELDVALUE(_xlfn.XLOOKUP(T28,Table1[Atomic symbol],Table1[Element]),pt_color),\"\")","v":{"v":6.0000000000023142E-8,"d":"0.000"}},null,{"$f":"IFERROR(_xlfn.FIELDVALUE(_xlfn.XLOOKUP(V28,Table1[Atomic symbol],Table1[Element]),pt_color),\"\")","v":{"v":2.0000000000000486E-7,"d":"0.000"}},null,{"$f":"IFERROR(_xlfn.FIELDVALUE(_xlfn.XLOOKUP(X28,Table1[Atomic symbol],Table1[Element]),pt_color),\"\")","v":{"v":6.0000000000023142E-8,"d":"0.000"}},null,{"$f":"IFERROR(_xlfn.FIELDVALUE(_xlfn.XLOOKUP(Z28,Table1[Atomic symbol],Table1[Element]),pt_color),\"\")","v":{"v":2.0000000000000486E-7,"d":"0.000"}},null,{"$f":"IFERROR(_xlfn.FIELDVALUE(_xlfn.XLOOKUP(AB28,Table1[Atomic symbol],Table1[Element]),pt_color),\"\")","v":{"v":2.9999999999984466E-8,"d":"0.000"}},null,{"$f":"IFERROR(_xlfn.FIELDVALUE(_xlfn.XLOOKUP(AD28,Table1[Atomic symbol],Table1[Element]),pt_color),\"\")","v":{"v":4.0000000000000972E-7,"d":"0.000"}},null,{"$f":"IFERROR(_xlfn.FIELDVALUE(_xlfn.XLOOKUP(AF28,Table1[Atomic symbol],Table1[Element]),pt_color),\"\")","v":{"v":3.9999999999979288E-8,"d":"0.000"}},null,{"$f":"IFERROR(_xlfn.FIELDVALUE(_xlfn.XLOOKUP(AH28,Table1[Atomic symbol],Table1[Element]),pt_color),\"\")","v":{"v":9.0000000000002188E-7,"d":"0.000"}},null,{"$f":"IFERROR(_xlfn.FIELDVALUE(_xlfn.XLOOKUP(AJ28,Table1[Atomic symbol],Table1[Element]),pt_color),\"\")","v":{"v":1e-07,"d":"0.000"}},null,{"$f":"IFERROR(_xlfn.FIELDVALUE(_xlfn.XLOOKUP(AL28,Table1[Atomic symbol],Table1[Element]),pt_color),\"\")","v":{"v":1.0000000000000243E-6,"d":"0.000"}}]
[]
[{"$nulls":3},55,null,56,{"$nulls":3},72,null,73,null,74,null,75,null,76,null,77,null,78,null,79,null,80,null,81,null,82,null,83,null,84,null,85,null,86]
[null,6,null,"Cs",null,"Ba",{"$nulls":3},"Hf",null,"Ta",null,"W",null,"Re",null,"Os",null,"Ir",null,"Pt",null,"Au",null,"Hg",null,"Tl",null,"Pb",null,"Bi",null,"Po",null,"At",null,"Rn"]
[{"$nulls":3},{"$f":"_xlfn.SINGLE(_xlfn.XLOOKUP(D33,Table1[Atomic symbol],Table1[Element]))","v":{"$error":"#VALUE!"}},null,{"$f":"_xlfn.SINGLE(_xlfn.XLOOKUP(F33,Table1[Atomic symbol],Table1[Element]))","v":{"$error":"#VALUE!"}},{"$nulls":3},{"$f":"_xlfn.SINGLE(_xlfn.XLOOKUP(J33,Table1[Atomic symbol],Table1[Element]))","v":{"$error":"#VALUE!"}},null,{"$f":"_xlfn.SINGLE(_xlfn.XLOOKUP(L33,Table1[Atomic symbol],Table1[Element]))","v":{"$error":"#VALUE!"}},null,{"$f":"_xlfn.SINGLE(_xlfn.XLOOKUP(N33,Table1[Atomic symbol],Table1[Element]))","v":{"$error":"#VALUE!"}},null,{"$f":"_xlfn.SINGLE(_xlfn.XLOOKUP(P33,Table1[Atomic symbol],Table1[Element]))","v":{"$error":"#VALUE!"}},null,{"$f":"_xlfn.SINGLE(_xlfn.XLOOKUP(R33,Table1[Atomic symbol],Table1[Element]))","v":{"$error":"#VALUE!"}},null,{"$f":"_xlfn.SINGLE(_xlfn.XLOOKUP(T33,Table1[Atomic symbol],Table1[Element]))","v":{"$error":"#VALUE!"}},null,{"$f":"_xlfn.SINGLE(_xlfn.XLOOKUP(V33,Table1[Atomic symbol],Table1[Element]))","v":{"$error":"#VALUE!"}},null,{"$f":"_xlfn.SINGLE(_xlfn.XLOOKUP(X33,Table1[Atomic symbol],Table1[Element]))","v":{"$error":"#VALUE!"}},null,{"$f":"_xlfn.SINGLE(_xlfn.XLOOKUP(Z33,Table1[Atomic symbol],Table1[Element]))","v":{"$error":"#VALUE!"}},null,{"$f":"_xlfn.SINGLE(_xlfn.XLOOKUP(AB33,Table1[Atomic symbol],Table1[Element]))","v":{"$error":"#VALUE!"}},null,{"$f":"_xlfn.SINGLE(_xlfn.XLOOKUP(AD33,Table1[Atomic symbol],Table1[Element]))","v":{"$error":"#VALUE!"}},null,{"$f":"_xlfn.SINGLE(_xlfn.XLOOKUP(AF33,Table1[Atomic symbol],Table1[Element]))","v":{"$error":"#VALUE!"}},null,{"$f":"_xlfn.SINGLE(_xlfn.XLOOKUP(AH33,Table1[Atomic symbol],Table1[Element]))","v":{"$error":"#VALUE!"}},null,{"$f":"_xlfn.SINGLE(_xlfn.XLOOKUP(AJ33,Table1[Atomic symbol],Table1[Element]))","v":{"$error":"#VALUE!"}},null,{"$f":"_xlfn.SINGLE(_xlfn.XLOOKUP(AL33,Table1[Atomic symbol],Table1[Element]))","v":{"$error":"#VALUE!"}}]
[{"$nulls":3},{"$f":"IFERROR(_xlfn.FIELDVALUE(_xlfn.XLOOKUP(D33,Table1[Atomic symbol],Table1[Element]),pt_color),\"\")","v":{"v":8.0000000000012787E-8,"d":"0.000"}},null,{"$f":"IFERROR(_xlfn.FIELDVALUE(_xlfn.XLOOKUP(F33,Table1[Atomic symbol],Table1[Element]),pt_color),\"\")","v":{"v":1.0000000000000243E-6,"d":"0.000"}},{"$nulls":3},{"$f":"IFERROR(_xlfn.FIELDVALUE(_xlfn.XLOOKUP(J33,Table1[Atomic symbol],Table1[Element]),pt_color),\"\")","v":{"v":7.0000000000017965E-8,"d":"0.000"}},null,{"$f":"IFERROR(_xlfn.FIELDVALUE(_xlfn.XLOOKUP(L33,Table1[Atomic symbol],Table1[Element]),pt_color),\"\")","v":{"v":8e-09,"d":"0.000"}},null,{"$f":"IFERROR(_xlfn.FIELDVALUE(_xlfn.XLOOKUP(N33,Table1[Atomic symbol],Table1[Element]),pt_color),\"\")","v":{"v":4.999999999997411E-8,"d":"0.000"}},null,{"$f":"IFERROR(_xlfn.FIELDVALUE(_xlfn.XLOOKUP(P33,Table1[Atomic symbol],Table1[Element]),pt_color),\"\")","v":{"v":2E-8,"d":"0.000"}},null,{"$f":"IFERROR(_xlfn.FIELDVALUE(_xlfn.XLOOKUP(R33,Table1[Atomic symbol],Table1[Element]),pt_color),\"\")","v":{"v":3.0000000000000729E-7,"d":"0.000"}},null,{"$f":"IFERROR(_xlfn.FIELDVALUE(_xlfn.XLOOKUP(T33,Table1[Atomic symbol],Table1[Element]),pt_color),\"\")","v":{"v":2.0000000000000486E-7,"d":"0.000"}},null,{"$f":"IFERROR(_xlfn.FIELDVALUE(_xlfn.XLOOKUP(V33,Table1[Atomic symbol],Table1[Element]),pt_color),\"\")","v":{"v":5.0000000000001215E-7,"d":"0.000"}},null,{"$f":"IFERROR(_xlfn.FIELDVALUE(_xlfn.XLOOKUP(X33,Table1[Atomic symbol],Table1[Element]),pt_color),\"\")","v":{"v":6.0000000000023142E-8,"d":"0.000"}},null,{"$f":"IFERROR(_xlfn.FIELDVALUE(_xlfn.XLOOKUP(Z33,Table1[Atomic symbol],Table1[Element]),pt_color),\"\")","v":{"v":1e-07,"d":"0.000"}},null,{"$f":"IFERROR(_xlfn.FIELDVALUE(_xlfn.XLOOKUP(AB33,Table1[Atomic symbol],Table1[Element]),pt_color),\"\")","v":{"v":4.999999999997411E-8,"d":"0.000"}},null,{"$f":"IFERROR(_xlfn.FIELDVALUE(_xlfn.XLOOKUP(AD33,Table1[Atomic symbol],Table1[Element]),pt_color),\"\")","v":{"v":1.0000000000000243E-6,"d":"0.000"}},null,{"$f":"IFERROR(_xlfn.FIELDVALUE(_xlfn.XLOOKUP(AF33,Table1[Atomic symbol],Table1[Element]),pt_color),\"\")","v":{"v":7.0000000000017965E-8,"d":"0.000"}},null,{"$f":"IFERROR(_xlfn.FIELDVALUE(_xlfn.XLOOKUP(AH33,Table1[Atomic symbol],Table1[Element]),pt_color),\"\")","v":""},null,{"$f":"IFERROR(_xlfn.FIELDVALUE(_xlfn.XLOOKUP(AJ33,Table1[Atomic symbol],Table1[Element]),pt_color),\"\")","v":""},null,{"$f":"IFERROR(_xlfn.FIELDVALUE(_xlfn.XLOOKUP(AL33,Table1[Atomic symbol],Table1[Element]),pt_color),\"\")","v":""}]
[]
[{"$nulls":3},87,null,88,{"$nulls":3},104,null,105,null,106,null,107,null,108,null,109,null,110,null,111,null,112,null,113,null,114,null,115,null,116,null,117,null,118]
[null,7,null,"Fr",null,"Ra",{"$nulls":3},"Rf",null,"Db",null,"Sg",null,"Bh",null,"Hs",null,"Mt",null,"Ds",null,"Rg",null,"Cn",null,"Nh",null,"Fl",null,"Mc",null,"Lv",null,"Ts",null,"Og"]
[{"$nulls":3},{"$f":"_xlfn.SINGLE(_xlfn.XLOOKUP(D38,Table1[Atomic symbol],Table1[Element]))","v":{"$error":"#VALUE!"}},null,{"$f":"_xlfn.SINGLE(_xlfn.XLOOKUP(F38,Table1[Atomic symbol],Table1[Element]))","v":{"$error":"#VALUE!"}},{"$nulls":3},{"$f":"_xlfn.SINGLE(_xlfn.XLOOKUP(J38,Table1[Atomic symbol],Table1[Element]))","v":{"$error":"#VALUE!"}},null,{"$f":"_xlfn.SINGLE(_xlfn.XLOOKUP(L38,Table1[Atomic symbol],Table1[Element]))","v":{"$error":"#VALUE!"}},null,{"$f":"_xlfn.SINGLE(_xlfn.XLOOKUP(N38,Table1[Atomic symbol],Table1[Element]))","v":{"$error":"#VALUE!"}},null,{"$f":"_xlfn.SINGLE(_xlfn.XLOOKUP(P38,Table1[Atomic symbol],Table1[Element]))","v":{"$error":"#VALUE!"}},null,{"$f":"_xlfn.SINGLE(_xlfn.XLOOKUP(R38,Table1[Atomic symbol],Table1[Element]))","v":{"$error":"#VALUE!"}},null,{"$f":"_xlfn.SINGLE(_xlfn.XLOOKUP(T38,Table1[Atomic symbol],Table1[Element]))","v":{"$error":"#VALUE!"}},null,{"$f":"_xlfn.SINGLE(_xlfn.XLOOKUP(V38,Table1[Atomic symbol],Table1[Element]))","v":{"$error":"#VALUE!"}},null,{"$f":"_xlfn.SINGLE(_xlfn.XLOOKUP(X38,Table1[Atomic symbol],Table1[Element]))","v":{"$error":"#VALUE!"}},null,{"$f":"_xlfn.SINGLE(_xlfn.XLOOKUP(Z38,Table1[Atomic symbol],Table1[Element]))","v":{"$error":"#VALUE!"}},null,{"$f":"_xlfn.SINGLE(_xlfn.XLOOKUP(AB38,Table1[Atomic symbol],Table1[Element]))","v":{"$error":"#VALUE!"}},null,{"$f":"_xlfn.SINGLE(_xlfn.XLOOKUP(AD38,Table1[Atomic symbol],Table1[Element]))","v":{"$error":"#VALUE!"}},null,{"$f":"_xlfn.SINGLE(_xlfn.XLOOKUP(AF38,Table1[Atomic symbol],Table1[Element]))","v":{"$error":"#VALUE!"}},null,{"$f":"_xlfn.SINGLE(_xlfn.XLOOKUP(AH38,Table1[Atomic symbol],Table1[Element]))","v":{"$error":"#VALUE!"}},null,{"$f":"_xlfn.SINGLE(_xlfn.XLOOKUP(AJ38,Table1[Atomic symbol],Table1[Element]))","v":{"$error":"#VALUE!"}},null,{"$f":"_xlfn.SINGLE(_xlfn.XLOOKUP(AL38,Table1[Atomic symbol],Table1[Element]))","v":{"$error":"#VALUE!"}}]
[{"$nulls":3},{"$f":"IFERROR(_xlfn.FIELDVALUE(_xlfn.XLOOKUP(D38,Table1[Atomic symbol],Table1[Element]),pt_color),\"\")","v":""},null,{"$f":"IFERROR(_xlfn.FIELDVALUE(_xlfn.XLOOKUP(F38,Table1[Atomic symbol],Table1[Element]),pt_color),\"\")","v":""},{"$nulls":3},{"$f":"IFERROR(_xlfn.FIELDVALUE(_xlfn.XLOOKUP(J38,Table1[Atomic symbol],Table1[Element]),pt_color),\"\")","v":""},null,{"$f":"IFERROR(_xlfn.FIELDVALUE(_xlfn.XLOOKUP(L38,Table1[Atomic symbol],Table1[Element]),pt_color),\"\")","v":""},null,{"$f":"IFERROR(_xlfn.FIELDVALUE(_xlfn.XLOOKUP(N38,Table1[Atomic symbol],Table1[Element]),pt_color),\"\")","v":""},null,{"$f":"IFERROR(_xlfn.FIELDVALUE(_xlfn.XLOOKUP(P38,Table1[Atomic symbol],Table1[Element]),pt_color),\"\")","v":""},null,{"$f":"IFERROR(_xlfn.FIELDVALUE(_xlfn.XLOOKUP(R38,Table1[Atomic symbol],Table1[Element]),pt_color),\"\")","v":""},null,{"$f":"IFERROR(_xlfn.FIELDVALUE(_xlfn.XLOOKUP(T38,Table1[Atomic symbol],Table1[Element]),pt_color),\"\")","v":""},null,{"$f":"IFERROR(_xlfn.FIELDVALUE(_xlfn.XLOOKUP(V38,Table1[Atomic symbol],Table1[Element]),pt_color),\"\")","v":""},null,{"$f":"IFERROR(_xlfn.FIELDVALUE(_xlfn.XLOOKUP(X38,Table1[Atomic symbol],Table1[Element]),pt_color),\"\")","v":""},null,{"$f":"IFERROR(_xlfn.FIELDVALUE(_xlfn.XLOOKUP(Z38,Table1[Atomic symbol],Table1[Element]),pt_color),\"\")","v":""},null,{"$f":"IFERROR(_xlfn.FIELDVALUE(_xlfn.XLOOKUP(AB38,Table1[Atomic symbol],Table1[Element]),pt_color),\"\")","v":""},null,{"$f":"IFERROR(_xlfn.FIELDVALUE(_xlfn.XLOOKUP(AD38,Table1[Atomic symbol],Table1[Element]),pt_color),\"\")","v":""},null,{"$f":"IFERROR(_xlfn.FIELDVALUE(_xlfn.XLOOKUP(AF38,Table1[Atomic symbol],Table1[Element]),pt_color),\"\")","v":""},null,{"$f":"IFERROR(_xlfn.FIELDVALUE(_xlfn.XLOOKUP(AH38,Table1[Atomic symbol],Table1[Element]),pt_color),\"\")","v":""},null,{"$f":"IFERROR(_xlfn.FIELDVALUE(_xlfn.XLOOKUP(AJ38,Table1[Atomic symbol],Table1[Element]),pt_color),\"\")","v":""},null,{"$f":"IFERROR(_xlfn.FIELDVALUE(_xlfn.XLOOKUP(AL38,Table1[Atomic symbol],Table1[Element]),pt_color),\"\")","v":""}]
[]
[{"$nulls":9},57,null,58,null,59,null,60,null,61,null,62,null,63,null,64,null,65,null,66,null,67,null,68,null,69,null,70,null,71]
[{"$nulls":5},"Lanthanide series",{"$nulls":3},"La",null,"Ce",null,"Pr",null,"Nd",null,"Pm",null,"Sm",null,"Eu",null,"Gd",null,"Tb",null,"Dy",null,"Ho",null,"Er",null,"Tm",null,"Yb",null,"Lu"]
[{"$nulls":9},{"$f":"_xlfn.SINGLE(_xlfn.XLOOKUP(J43,Table1[Atomic symbol],Table1[Element]))","v":{"$error":"#VALUE!"}},null,{"$f":"_xlfn.SINGLE(_xlfn.XLOOKUP(L43,Table1[Atomic symbol],Table1[Element]))","v":{"$error":"#VALUE!"}},null,{"$f":"_xlfn.SINGLE(_xlfn.XLOOKUP(N43,Table1[Atomic symbol],Table1[Element]))","v":{"$error":"#VALUE!"}},null,{"$f":"_xlfn.SINGLE(_xlfn.XLOOKUP(P43,Table1[Atomic symbol],Table1[Element]))","v":{"$error":"#VALUE!"}},null,{"$f":"_xlfn.SINGLE(_xlfn.XLOOKUP(R43,Table1[Atomic symbol],Table1[Element]))","v":{"$error":"#VALUE!"}},null,{"$f":"_xlfn.SINGLE(_xlfn.XLOOKUP(T43,Table1[Atomic symbol],Table1[Element]))","v":{"$error":"#VALUE!"}},null,{"$f":"_xlfn.SINGLE(_xlfn.XLOOKUP(V43,Table1[Atomic symbol],Table1[Element]))","v":{"$error":"#VALUE!"}},null,{"$f":"_xlfn.SINGLE(_xlfn.XLOOKUP(X43,Table1[Atomic symbol],Table1[Element]))","v":{"$error":"#VALUE!"}},null,{"$f":"_xlfn.SINGLE(_xlfn.XLOOKUP(Z43,Table1[Atomic symbol],Table1[Element]))","v":{"$error":"#VALUE!"}},null,{"$f":"_xlfn.SINGLE(_xlfn.XLOOKUP(AB43,Table1[Atomic symbol],Table1[Element]))","v":{"$error":"#VALUE!"}},null,{"$f":"_xlfn.SINGLE(_xlfn.XLOOKUP(AD43,Table1[Atomic symbol],Table1[Element]))","v":{"$error":"#VALUE!"}},null,{"$f":"_xlfn.SINGLE(_xlfn.XLOOKUP(AF43,Table1[Atomic symbol],Table1[Element]))","v":{"$error":"#VALUE!"}},null,{"$f":"_xlfn.SINGLE(_xlfn.XLOOKUP(AH43,Table1[Atomic symbol],Table1[Element]))","v":{"$error":"#VALUE!"}},null,{"$f":"_xlfn.SINGLE(_xlfn.XLOOKUP(AJ43,Table1[Atomic symbol],Table1[Element]))","v":{"$error":"#VALUE!"}},null,{"$f":"_xlfn.SINGLE(_xlfn.XLOOKUP(AL43,Table1[Atomic symbol],Table1[Element]))","v":{"$error":"#VALUE!"}}]
[{"$nulls":9},{"$f":"IFERROR(_xlfn.FIELDVALUE(_xlfn.XLOOKUP(J43,Table1[Atomic symbol],Table1[Element]),pt_color),\"\")","v":{"v":2.0000000000000486E-7,"d":"0.000"}},null,{"$f":"IFERROR(_xlfn.FIELDVALUE(_xlfn.XLOOKUP(L43,Table1[Atomic symbol],Table1[Element]),pt_color),\"\")","v":{"v":1.0000000000000243E-6,"d":"0.000"}},null,{"$f":"IFERROR(_xlfn.FIELDVALUE(_xlfn.XLOOKUP(N43,Table1[Atomic symbol],Table1[Element]),pt_color),\"\")","v":{"v":2.0000000000000486E-7,"d":"0.000"}},null,{"$f":"IFERROR(_xlfn.FIELDVALUE(_xlfn.XLOOKUP(P43,Table1[Atomic symbol],Table1[Element]),pt_color),\"\")","v":{"v":1.0000000000000243E-6,"d":"0.000"}},null,{"$f":"IFERROR(_xlfn.FIELDVALUE(_xlfn.XLOOKUP(R43,Table1[Atomic symbol],Table1[Element]),pt_color),\"\")","v":""},null,{"$f":"IFERROR(_xlfn.FIELDVALUE(_xlfn.XLOOKUP(T43,Table1[Atomic symbol],Table1[Element]),pt_color),\"\")","v":{"v":5.0000000000001215E-7,"d":"0.000"}},null,{"$f":"IFERROR(_xlfn.FIELDVALUE(_xlfn.XLOOKUP(V43,Table1[Atomic symbol],Table1[Element]),pt_color),\"\")","v":{"v":4.999999999997411E-8,"d":"0.000"}},null,{"$f":"IFERROR(_xlfn.FIELDVALUE(_xlfn.XLOOKUP(X43,Table1[Atomic symbol],Table1[Element]),pt_color),\"\")","v":{"v":2.0000000000000486E-7,"d":"0.000"}},null,{"$f":"IFERROR(_xlfn.FIELDVALUE(_xlfn.XLOOKUP(Z43,Table1[Atomic symbol],Table1[Element]),pt_color),\"\")","v":{"v":4.999999999997411E-8,"d":"0.000"}},null,{"$f":"IFERROR(_xlfn.FIELDVALUE(_xlfn.XLOOKUP(AB43,Table1[Atomic symbol],Table1[Element]),pt_color),\"\")","v":{"v":2.0000000000000486E-7,"d":"0.000"}},null,{"$f":"IFERROR(_xlfn.FIELDVALUE(_xlfn.XLOOKUP(AD43,Table1[Atomic symbol],Table1[Element]),pt_color),\"\")","v":{"v":4.999999999997411E-8,"d":"0.000"}},null,{"$f":"IFERROR(_xlfn.FIELDVALUE(_xlfn.XLOOKUP(AF43,Table1[Atomic symbol],Table1[Element]),pt_color),\"\")","v":{"v":2.0000000000000486E-7,"d":"0.000"}},null,{"$f":"IFERROR(_xlfn.FIELDVALUE(_xlfn.XLOOKUP(AH43,Table1[Atomic symbol],Table1[Element]),pt_color),\"\")","v":{"v":1E-8,"d":"0.000"}},null,{"$f":"IFERROR(_xlfn.FIELDVALUE(_xlfn.XLOOKUP(AJ43,Table1[Atomic symbol],Table1[Element]),pt_color),\"\")","v":{"v":2.0000000000000486E-7,"d":"0.000"}},null,{"$f":"IFERROR(_xlfn.FIELDVALUE(_xlfn.XLOOKUP(AL43,Table1[Atomic symbol],Table1[Element]),pt_color),\"\")","v":{"v":1E-8,"d":"0.000"}}]
[]
[{"$nulls":9},89,null,90,null,91,null,92,null,93,null,94,null,95,null,96,null,97,null,98,null,99,null,100,null,101,null,102,null,103]
[{"$nulls":5},"Actinide series",{"$nulls":3},"Ac",null,"Th",null,"Pa",null,"U",null,"Np",null,"Pu",null,"Am",null,"Cm",null,"Bk",null,"Cf",null,"Es",null,"Fm",null,"Md",null,"No",null,"Lr"]
[{"$nulls":9},{"$f":"_xlfn.SINGLE(_xlfn.XLOOKUP(J48,Table1[Atomic symbol],Table1[Element]))","v":{"$error":"#VALUE!"}},null,{"$f":"_xlfn.SINGLE(_xlfn.XLOOKUP(L48,Table1[Atomic symbol],Table1[Element]))","v":{"$error":"#VALUE!"}},null,{"$f":"_xlfn.SINGLE(_xlfn.XLOOKUP(N48,Table1[Atomic symbol],Table1[Element]))","v":{"$error":"#VALUE!"}},null,{"$f":"_xlfn.SINGLE(_xlfn.XLOOKUP(P48,Table1[Atomic symbol],Table1[Element]))","v":{"$error":"#VALUE!"}},null,{"$f":"_xlfn.SINGLE(_xlfn.XLOOKUP(R48,Table1[Atomic symbol],Table1[Element]))","v":{"$error":"#VALUE!"}},null,{"$f":"_xlfn.SINGLE(_xlfn.XLOOKUP(T48,Table1[Atomic symbol],Table1[Element]))","v":{"$error":"#VALUE!"}},null,{"$f":"_xlfn.SINGLE(_xlfn.XLOOKUP(V48,Table1[Atomic symbol],Table1[Element]))","v":{"$error":"#VALUE!"}},null,{"$f":"_xlfn.SINGLE(_xlfn.XLOOKUP(X48,Table1[Atomic symbol],Table1[Element]))","v":{"$error":"#VALUE!"}},null,{"$f":"_xlfn.SINGLE(_xlfn.XLOOKUP(Z48,Table1[Atomic symbol],Table1[Element]))","v":{"$error":"#VALUE!"}},null,{"$f":"_xlfn.SINGLE(_xlfn.XLOOKUP(AB48,Table1[Atomic symbol],Table1[Element]))","v":{"$error":"#VALUE!"}},null,{"$f":"_xlfn.SINGLE(_xlfn.XLOOKUP(AD48,Table1[Atomic symbol],Table1[Element]))","v":{"$error":"#VALUE!"}},null,{"$f":"_xlfn.SINGLE(_xlfn.XLOOKUP(AF48,Table1[Atomic symbol],Table1[Element]))","v":{"$error":"#VALUE!"}},null,{"$f":"_xlfn.SINGLE(_xlfn.XLOOKUP(AH48,Table1[Atomic symbol],Table1[Element]))","v":{"$error":"#VALUE!"}},null,{"$f":"_xlfn.SINGLE(_xlfn.XLOOKUP(AJ48,Table1[Atomic symbol],Table1[Element]))","v":{"$error":"#VALUE!"}},null,{"$f":"_xlfn.SINGLE(_xlfn.XLOOKUP(AL48,Table1[Atomic symbol],Table1[Element]))","v":{"$error":"#VALUE!"}}]
[{"$nulls":9},{"$f":"IFERROR(_xlfn.FIELDVALUE(_xlfn.XLOOKUP(J48,Table1[Atomic symbol],Table1[Element]),pt_color),\"\")","v":""},null,{"$f":"IFERROR(_xlfn.FIELDVALUE(_xlfn.XLOOKUP(L48,Table1[Atomic symbol],Table1[Element]),pt_color),\"\")","v":{"v":3.9999999999979288E-8,"d":"0.000"}},null,{"$f":"IFERROR(_xlfn.FIELDVALUE(_xlfn.XLOOKUP(N48,Table1[Atomic symbol],Table1[Element]),pt_color),\"\")","v":""},null,{"$f":"IFERROR(_xlfn.FIELDVALUE(_xlfn.XLOOKUP(P48,Table1[Atomic symbol],Table1[Element]),pt_color),\"\")","v":{"v":2E-8,"d":"0.000"}},null,{"$f":"IFERROR(_xlfn.FIELDVALUE(_xlfn.XLOOKUP(R48,Table1[Atomic symbol],Table1[Element]),pt_color),\"\")","v":""},null,{"$f":"IFERROR(_xlfn.FIELDVALUE(_xlfn.XLOOKUP(T48,Table1[Atomic symbol],Table1[Element]),pt_color),\"\")","v":""},null,{"$f":"IFERROR(_xlfn.FIELDVALUE(_xlfn.XLOOKUP(V48,Table1[Atomic symbol],Table1[Element]),pt_color),\"\")","v":""},null,{"$f":"IFERROR(_xlfn.FIELDVALUE(_xlfn.XLOOKUP(X48,Table1[Atomic symbol],Table1[Element]),pt_color),\"\")","v":""},null,{"$f":"IFERROR(_xlfn.FIELDVALUE(_xlfn.XLOOKUP(Z48,Table1[Atomic symbol],Table1[Element]),pt_color),\"\")","v":""},null,{"$f":"IFERROR(_xlfn.FIELDVALUE(_xlfn.XLOOKUP(AB48,Table1[Atomic symbol],Table1[Element]),pt_color),\"\")","v":""},null,{"$f":"IFERROR(_xlfn.FIELDVALUE(_xlfn.XLOOKUP(AD48,Table1[Atomic symbol],Table1[Element]),pt_color),\"\")","v":""},null,{"$f":"IFERROR(_xlfn.FIELDVALUE(_xlfn.XLOOKUP(AF48,Table1[Atomic symbol],Table1[Element]),pt_color),\"\")","v":""},null,{"$f":"IFERROR(_xlfn.FIELDVALUE(_xlfn.XLOOKUP(AH48,Table1[Atomic symbol],Table1[Element]),pt_color),\"\")","v":""},null,{"$f":"IFERROR(_xlfn.FIELDVALUE(_xlfn.XLOOKUP(AJ48,Table1[Atomic symbol],Table1[Element]),pt_color),\"\")","v":""},null,{"$f":"IFERROR(_xlfn.FIELDVALUE(_xlfn.XLOOKUP(AL48,Table1[Atomic symbol],Table1[Element]),pt_color),\"\")","v":""}]

{"sheet":"PTSearch","index":2,"n_rows":48,"n_cols":39,"rows_kept":48,"hidden":true}
[{"$f":"IF(pt_search <> \"\",TRUE,FALSE)","v":false}]
[{"$f":"IF(pt_color <> \"\",TRUE,FALSE)","v":true},"✓"]
[]
["Property DV"]
["Atomic Mass",{"$f":"Table11[Property DV]","v":"Atomic Mass"},null,{"$f":"IF(pt_search='Periodic table'!D7,1,0)","v":0},{"$f":"D8","v":0},{"$nulls":32},{"$f":"IF(pt_search='Periodic table'!AL7,1,0)","v":0},{"$f":"AL8","v":0}]
["Atomic radius","Atomic radius",null,{"$f":"IF(pt_search='Periodic table'!D8,1,0)","v":0},{"$f":"D8","v":0},{"$nulls":32},{"$f":"IF(pt_search='Periodic table'!AL8,1,0)","v":0},{"$f":"AL8","v":0}]
["Block","Block",null,{"$f":"IFERROR(IF(pt_search <> \"\",IF(SEARCH(pt_search,_FV('Periodic table'!D9,\"name\")),1,0),0),0)","v":0},{"$f":"D8","v":0},{"$nulls":32},{"$f":"IFERROR(IF(pt_search <> \"\",IF(SEARCH(pt_search,_FV('Periodic table'!AL9,\"name\")),1,0),0),0)","v":0},{"$f":"AL8","v":0}]
["Boiling Point","Boiling Point",null,{"$f":"MAX(D5:D7)","v":0},{"$f":"D8","v":0},{"$nulls":32},{"$f":"MAX(AL5:AL7)","v":0},{"$f":"AL8","v":0}]
["Covalent radius","Covalent radius"]
["Crust Abundance","Crust Abundance",null,{"$f":"IF(pt_search='Periodic table'!D12,1,0)","v":0},{"$f":"D13","v":0},{"$f":"IF(pt_search='Periodic table'!F12,1,0)","v":0},{"$f":"F13","v":0},{"$nulls":20},{"$f":"IF(pt_search='Periodic table'!AB12,1,0)","v":0},{"$f":"AB13","v":0},{"$f":"IF(pt_search='Periodic table'!AD12,1,0)","v":0},{"$f":"AD13","v":0},{"$f":"IF(pt_search='Periodic table'!AF12,1,0)","v":0},{"$f":"AF13","v":0},{"$f":"IF(pt_search='Periodic table'!AH12,1,0)","v":0},{"$f":"AH13","v":0},{"$f":"IF(pt_search='Periodic table'!AJ12,1,0)","v":0},{"$f":"AJ13","v":0},{"$f":"IF(pt_search='Periodic table'!AL12,1,0)","v":0},{"$f":"AL13","v":0}]
["Discovery year","Discovery year",null,{"$f":"IF(pt_search='Periodic table'!D13,1,0)","v":0},{"$f":"D13","v":0},{"$f":"IF(pt_search='Periodic table'!F13,1,0)","v":0},{"$f":"F13","v":0},{"$nulls":20},{"$f":"IF(pt_search='Periodic table'!AB13,1,0)","v":0},{"$f":"AB13","v":0},{"$f":"IF(pt_search='Periodic table'!AD13,1,0)","v":0},{"$f":"AD13","v":0},{"$f":"IF(pt_search='Periodic table'!AF13,1,0)","v":0},{"$f":"AF13","v":0},{"$f":"IF(pt_search='Periodic table'!AH13,1,0)","v":0},{"$f":"AH13","v":0},{"$f":"IF(pt_search='Periodic table'!AJ13,1,0)","v":0},{"$f":"AJ13","v":0},{"$f":"IF(pt_search='Periodic table'!AL13,1,0)","v":0},{"$f":"AL13","v":0}]
["Electron affinity","Electron affinity",null,{"$f":"IFERROR(IF(pt_search <> \"\",IF(SEARCH(pt_search,_FV('Periodic table'!D14,\"name\")),1,0),0),0)","v":0},{"$f":"D13","v":0},{"$f":"IFERROR(IF(pt_search <> \"\",IF(SEARCH(pt_search,_FV('Periodic table'!F14,\"name\")),1,0),0),0)","v":0},{"$f":"F13","v":0},{"$nulls":20},{"$f":"IFERROR(IF(pt_search <> \"\",IF(SEARCH(pt_search,_FV('Periodic table'!AB14,\"name\")),1,0),0),0)","v":0},{"$f":"AB13","v":0},{"$f":"IFERROR(IF(pt_search <> \"\",IF(SEARCH(pt_search,_FV('Periodic table'!AD14,\"name\")),1,0),0),0)","v":0},{"$f":"AD13","v":0},{"$f":"IFERROR(IF(pt_search <> \"\",IF(SEARCH(pt_search,_FV('Periodic table'!AF14,\"name\")),1,0),0),0)","v":0},{"$f":"AF13","v":0},{"$f":"IFERROR(IF(pt_search <> \"\",IF(SEARCH(pt_search,_FV('Periodic table'!AH14,\"name\")),1,0),0),0)","v":0},{"$f":"AH13","v":0},{"$f":"IFERROR(IF(pt_search <> \"\",IF(SEARCH(pt_search,_FV('Periodic table'!AJ14,\"name\")),1,0),0),0)","v":0},{"$f":"AJ13","v":0},{"$f":"IFERROR(IF(pt_search <> \"\",IF(SEARCH(pt_search,_FV('Periodic table'!AL14,\"name\")),1,0),0),0)","v":0},{"$f":"AL13","v":0}]
["Electronegativity","Electronegativity",null,{"$f":"MAX(D10:D12)","v":0},{"$f":"D13","v":0},{"$f":"MAX(F10:F12)","v":0},{"$f":"F13","v":0},{"$nulls":20},{"$f":"MAX(AB10:AB12)","v":0},{"$f":"AB13","v":0},{"$f":"MAX(AD10:AD12)","v":0},{"$f":"AD13","v":0},{"$f":"MAX(AF10:AF12)","v":0},{"$f":"AF13","v":0},{"$f":"MAX(AH10:AH12)","v":0},{"$f":"AH13","v":0},{"$f":"MAX(AJ10:AJ12)","v":0},{"$f":"AJ13","v":0},{"$f":"MAX(AL10:AL12)","v":0},{"$f":"AL13","v":0}]
["Group","Group"]
["Human Abundance","Human Abundance",null,{"$f":"IF(pt_search='Periodic table'!D17,1,0)","v":0},{"$f":"D18","v":0},{"$f":"IF(pt_search='Periodic table'!F17,1,0)","v":0},{"$f":"F18","v":0},{"$nulls":20},{"$f":"IF(pt_search='Periodic table'!AB17,1,0)","v":0},{"$f":"AB18","v":0},{"$f":"IF(pt_search='Periodic table'!AD17,1,0)","v":0},{"$f":"AD18","v":0},{"$f":"IF(pt_search='Periodic table'!AF17,1,0)","v":0},{"$f":"AF18","v":0},{"$f":"IF(pt_search='Periodic table'!AH17,1,0)","v":0},{"$f":"AH18","v":0},{"$f":"IF(pt_search='Periodic table'!AJ17,1,0)","v":0},{"$f":"AJ18","v":0},{"$f":"IF(pt_search='Periodic table'!AL17,1,0)","v":0},{"$f":"AL18","v":0}]
["Melting Point","Melting Point",null,{"$f":"IF(pt_search='Periodic table'!D18,1,0)","v":0},{"$f":"D18","v":0},{"$f":"IF(pt_search='Periodic table'!F18,1,0)","v":0},{"$f":"F18","v":0},{"$nulls":20},{"$f":"IF(pt_search='Periodic table'!AB18,1,0)","v":0},{"$f":"AB18","v":0},{"$f":"IF(pt_search='Periodic table'!AD18,1,0)","v":0},{"$f":"AD18","v":0},{"$f":"IF(pt_search='Periodic table'!AF18,1,0)","v":0},{"$f":"AF18","v":0},{"$f":"IF(pt_search='Periodic table'!AH18,1,0)","v":0},{"$f":"AH18","v":0},{"$f":"IF(pt_search='Periodic table'!AJ18,1,0)","v":0},{"$f":"AJ18","v":0},{"$f":"IF(pt_search='Periodic table'!AL18,1,0)","v":0},{"$f":"AL18","v":0}]
["Meteorite Abundance","Meteorite Abundance",null,{"$f":"IFERROR(IF(pt_search <> \"\",IF(SEARCH(pt_search,_FV('Periodic table'!D19,\"name\")),1,0),0),0)","v":0},{"$f":"D18","v":0},{"$f":"IFERROR(IF(pt_search <> \"\",IF(SEARCH(pt_search,_FV('Periodic table'!F19,\"name\")),1,0),0),0)","v":0},{"$f":"F18","v":0},{"$nulls":20},{"$f":"IFERROR(IF(pt_search <> \"\",IF(SEARCH(pt_search,_FV('Periodic table'!AB19,\"name\")),1,0),0),0)","v":0},{"$f":"AB18","v":0},{"$f":"IFERROR(IF(pt_search <> \"\",IF(SEARCH(pt_search,_FV('Periodic table'!AD19,\"name\")),1,0),0),0)","v":0},{"$f":"AD18","v":0},{"$f":"IFERROR(IF(pt_search <> \"\",IF(SEARCH(pt_search,_FV('Periodic table'!AF19,\"name\")),1,0),0),0)","v":0},{"$f":"AF18","v":0},{"$f":"IFERROR(IF(pt_search <> \"\",IF(SEARCH(pt_search,_FV('Periodic table'!AH19,\"name\")),1,0),0),0)","v":0},{"$f":"AH18","v":0},{"$f":"IFERROR(IF(pt_search <> \"\",IF(SEARCH(pt_search,_FV('Periodic table'!AJ19,\"name\")),1,0),0),0)","v":0},{"$f":"AJ18","v":0},{"$f":"IFERROR(IF(pt_search <> \"\",IF(SEARCH(pt_search,_FV('Periodic table'!AL19,\"name\")),1,0),0),0)","v":0},{"$f":"AL18","v":0}]
["Ocean Abundance","Ocean Abundance",null,{"$f":"MAX(D15:D17)","v":0},{"$f":"D18","v":0},{"$f":"MAX(F15:F17)","v":0},{"$f":"F18","v":0},{"$nulls":20},{"$f":"MAX(AB15:AB17)","v":0},{"$f":"AB18","v":0},{"$f":"MAX(AD15:AD17)","v":0},{"$f":"AD18","v":0},{"$f":"MAX(AF15:AF17)","v":0},{"$f":"AF18","v":0},{"$f":"MAX(AH15:AH17)","v":0},{"$f":"AH18","v":0},{"$f":"MAX(AJ15:AJ17)","v":0},{"$f":"AJ18","v":0},{"$f":"MAX(AL15:AL17)","v":0},{"$f":"AL18","v":0}]
["Period","Period"]
["Solar Abundance","Solar Abundance",null,{"$f":"IF(pt_search='Periodic table'!D22,1,0)","v":0},{"$f":"D23","v":0},{"$f":"IF(pt_search='Periodic table'!F22,1,0)","v":0},{"$f":"F23","v":0},{"$f":"IF(pt_search='Periodic table'!H22,1,0)","v":0},{"$f":"H23","v":0},{"$f":"IF(pt_search='Periodic table'!J22,1,0)","v":0},{"$f":"J23","v":0},{"$f":"IF(pt_search='Periodic table'!L22,1,0)","v":0},{"$f":"L23","v":0},{"$f":"IF(pt_search='Periodic table'!N22,1,0)","v":0},{"$f":"N23","v":0},{"$f":"IF(pt_search='Periodic table'!P22,1,0)","v":0},{"$f":"P23","v":0},{"$f":"IF(pt_search='Periodic table'!R22,1,0)","v":0},{"$f":"R23","v":0},{"$f":"IF(pt_search='Periodic table'!T22,1,0)","v":0},{"$f":"T23","v":0},{"$f":"IF(pt_search='Periodic table'!V22,1,0)","v":0},{"$f":"V23","v":0},{"$f":"IF(pt_search='Periodic table'!X22,1,0)","v":0},{"$f":"X23","v":0},{"$f":"IF(pt_search='Periodic table'!Z22,1,0)","v":0},{"$f":"Z23","v":0},{"$f":"IF(pt_search='Periodic table'!AB22,1,0)","v":0},{"$f":"AB23","v":0},{"$f":"IF(pt_search='Periodic table'!AD22,1,0)","v":0},{"$f":"AD23","v":0},{"$f":"IF(pt_search='Periodic table'!AF22,1,0)","v":0},{"$f":"AF23","v":0},{"$f":"IF(pt_search='Periodic table'!AH22,1,0)","v":0},{"$f":"AH23","v":0},{"$f":"IF(pt_search='Periodic table'!AJ22,1,0)","v":0},{"$f":"AJ23","v":0},{"$f":"IF(pt_search='Periodic table'!AL22,1,0)","v":0},{"$f":"AL23","v":0}]
["Universe Abundance","Universe Abundance",null,{"$f":"IF(pt_search='Periodic table'!D23,1,0)","v":0},{"$f":"D23","v":0},{"$f":"IF(pt_search='Periodic table'!F23,1,0)","v":0},{"$f":"F23","v":0},{"$f":"IF(pt_search='Periodic table'!H23,1,0)","v":0},{"$f":"H23","v":0},{"$f":"IF(pt_search='Periodic table'!J23,1,0)","v":0},{"$f":"J23","v":0},{"$f":"IF(pt_search='Periodic table'!L23,1,0)","v":0},{"$f":"L23","v":0},{"$f":"IF(pt_search='Periodic table'!N23,1,0)","v":0},{"$f":"N23","v":0},{"$f":"IF(pt_search='Periodic table'!P23,1,0)","v":0},{"$f":"P23","v":0},{"$f":"IF(pt_search='Periodic table'!R23,1,0)","v":0},{"$f":"R23","v":0},{"$f":"IF(pt_search='Periodic table'!T23,1,0)","v":0},{"$f":"T23","v":0},{"$f":"IF(pt_search='Periodic table'!V23,1,0)","v":0},{"$f":"V23","v":0},{"$f":"IF(pt_search='Periodic table'!X23,1,0)","v":0},{"$f":"X23","v":0},{"$f":"IF(pt_search='Periodic table'!Z23,1,0)","v":0},{"$f":"Z23","v":0},{"$f":"IF(pt_search='Periodic table'!AB23,1,0)","v":0},{"$f":"AB23","v":0},{"$f":"IF(pt_search='Periodic table'!AD23,1,0)","v":0},{"$f":"AD23","v":0},{"$f":"IF(pt_search='Periodic table'!AF23,1,0)","v":0},{"$f":"AF23","v":0},{"$f":"IF(pt_search='Periodic table'!AH23,1,0)","v":0},{"$f":"AH23","v":0},{"$f":"IF(pt_search='Periodic table'!AJ23,1,0)","v":0},{"$f":"AJ23","v":0},{"$f":"IF(pt_search='Periodic table'!AL23,1,0)","v":0},{"$f":"AL23","v":0}]
["Valence","Valence",null,{"$f":"IFERROR(IF(pt_search <> \"\",IF(SEARCH(pt_search,_FV('Periodic table'!D24,\"name\")),1,0),0),0)","v":0},{"$f":"D23","v":0},{"$f":"IFERROR(IF(pt_search <> \"\",IF(SEARCH(pt_search,_FV('Periodic table'!F24,\"name\")),1,0),0),0)","v":0},{"$f":"F23","v":0},{"$f":"IFERROR(IF(pt_search <> \"\",IF(SEARCH(pt_search,_FV('Periodic table'!H24,\"name\")),1,0),0),0)","v":0},{"$f":"H23","v":0},{"$f":"IFERROR(IF(pt_search <> \"\",IF(SEARCH(pt_search,_FV('Periodic table'!J24,\"name\")),1,0),0),0)","v":0},{"$f":"J23","v":0},{"$f":"IFERROR(IF(pt_search <> \"\",IF(SEARCH(pt_search,_FV('Periodic table'!L24,\"name\")),1,0),0),0)","v":0},{"$f":"L23","v":0},{"$f":"IFERROR(IF(pt_search <> \"\",IF(SEARCH(pt_search,_FV('Periodic table'!N24,\"name\")),1,0),0),0)","v":0},{"$f":"N23","v":0},{"$f":"IFERROR(IF(pt_search <> \"\",IF(SEARCH(pt_search,_FV('Periodic table'!P24,\"name\")),1,0),0),0)","v":0},{"$f":"P23","v":0},{"$f":"IFERROR(IF(pt_search <> \"\",IF(SEARCH(pt_search,_FV('Periodic table'!R24,\"name\")),1,0),0),0)","v":0},{"$f":"R23","v":0},{"$f":"IFERROR(IF(pt_search <> \"\",IF(SEARCH(pt_search,_FV('Periodic table'!T24,\"name\")),1,0),0),0)","v":0},{"$f":"T23","v":0},{"$f":"IFERROR(IF(pt_search <> \"\",IF(SEARCH(pt_search,_FV('Periodic table'!V24,\"name\")),1,0),0),0)","v":0},{"$f":"V23","v":0},{"$f":"IFERROR(IF(pt_search <> \"\",IF(SEARCH(pt_search,_FV('Periodic table'!X24,\"name\")),1,0),0),0)","v":0},{"$f":"X23","v":0},{"$f":"IFERROR(IF(pt_search <> \"\",IF(SEARCH(pt_search,_FV('Periodic table'!Z24,\"name\")),1,0),0),0)","v":0},{"$f":"Z23","v":0},{"$f":"IFERROR(IF(pt_search <> \"\",IF(SEARCH(pt_search,_FV('Periodic table'!AB24,\"name\")),1,0),0),0)","v":0},{"$f":"AB23","v":0},{"$f":"IFERROR(IF(pt_search <> \"\",IF(SEARCH(pt_search,_FV('Periodic table'!AD24,\"name\")),1,0),0),0)","v":0},{"$f":"AD23","v":0},{"$f":"IFERROR(IF(pt_search <> \"\",IF(SEARCH(pt_search,_FV('Periodic table'!AF24,\"name\")),1,0),0),0)","v":0},{"$f":"AF23","v":0},{"$f":"IFERROR(IF(pt_search <> \"\",IF(SEARCH(pt_search,_FV('Periodic table'!AH24,\"name\")),1,0),0),0)","v":0},{"$f":"AH23","v":0},{"$f":"IFERROR(IF(pt_search <> \"\",IF(SEARCH(pt_search,_FV('Periodic table'!AJ24,\"name\")),1,0),0),0)","v":0},{"$f":"AJ23","v":0},{"$f":"IFERROR(IF(pt_search <> \"\",IF(SEARCH(pt_search,_FV('Periodic table'!AL24,\"name\")),1,0),0),0)","v":0},{"$f":"AL23","v":0}]
["Van der Waals radius","Van der Waals radius",null,{"$f":"MAX(D20:D22)","v":0},{"$f":"D23","v":0},{"$f":"MAX(F20:F22)","v":0},{"$f":"F23","v":0},{"$f":"MAX(H20:H22)","v":0},{"$f":"H23","v":0},{"$f":"MAX(J20:J22)","v":0},{"$f":"J23","v":0},{"$f":"MAX(L20:L22)","v":0},{"$f":"L23","v":0},{"$f":"MAX(N20:N22)","v":0},{"$f":"N23","v":0},{"$f":"MAX(P20:P22)","v":0},{"$f":"P23","v":0},{"$f":"MAX(R20:R22)","v":0},{"$f":"R23","v":0},{"$f":"MAX(T20:T22)","v":0},{"$f":"T23","v":0},{"$f":"MAX(V20:V22)","v":0},{"$f":"V23","v":0},{"$f":"MAX(X20:X22)","v":0},{"$f":"X23","v":0},{"$f":"MAX(Z20:Z22)","v":0},{"$f":"Z23","v":0},{"$f":"MAX(AB20:AB22)","v":0},{"$f":"AB23","v":0},{"$f":"MAX(AD20:AD22)","v":0},{"$f":"AD23","v":0},{"$f":"MAX(AF20:AF22)","v":0},{"$f":"AF23","v":0},{"$f":"MAX(AH20:AH22)","v":0},{"$f":"AH23","v":0},{"$f":"MAX(AJ20:AJ22)","v":0},{"$f":"AJ23","v":0},{"$f":"MAX(AL20:AL22)","v":0},{"$f":"AL23","v":0}]
[]
[{"$nulls":3},{"$f":"IF(pt_search='Periodic table'!D27,1,0)","v":0},{"$f":"D28","v":0},{"$f":"IF(pt_search='Periodic table'!F27,1,0)","v":0},{"$f":"F28","v":0},{"$f":"IF(pt_search='Periodic table'!H27,1,0)","v":0},{"$f":"H28","v":0},{"$f":"IF(pt_search='Periodic table'!J27,1,0)","v":0},{"$f":"J28","v":0},{"$f":"IF(pt_search='Periodic table'!L27,1,0)","v":0},{"$f":"L28","v":0},{"$f":"IF(pt_search='Periodic table'!N27,1,0)","v":0},{"$f":"N28","v":0},{"$f":"IF(pt_search='Periodic table'!P27,1,0)","v":0},{"$f":"P28","v":0},{"$f":"IF(pt_search='Periodic table'!R27,1,0)","v":0},{"$f":"R28","v":0},{"$f":"IF(pt_search='Periodic table'!T27,1,0)","v":0},{"$f":"T28","v":0},{"$f":"IF(pt_search='Periodic table'!V27,1,0)","v":0},{"$f":"V28","v":0},{"$f":"IF(pt_search='Periodic table'!X27,1,0)","v":0},{"$f":"X28","v":0},{"$f":"IF(pt_search='Periodic table'!Z27,1,0)","v":0},{"$f":"Z28","v":0},{"$f":"IF(pt_search='Periodic table'!AB27,1,0)","v":0},{"$f":"AB28","v":0},{"$f":"IF(pt_search='Periodic table'!AD27,1,0)","v":0},{"$f":"AD28","v":0},{"$f":"IF(pt_search='Periodic table'!AF27,1,0)","v":0},{"$f":"AF28","v":0},{"$f":"IF(pt_search='Periodic table'!AH27,1,0)","v":0},{"$f":"AH28","v":0},{"$f":"IF(pt_search='Periodic table'!AJ27,1,0)","v":0},{"$f":"AJ28","v":0},{"$f":"IF(pt_search='Periodic table'!AL27,1,0)","v":0},{"$f":"AL28","v":0}]
[{"$nulls":3},{"$f":"IF(pt_search='Periodic table'!D28,1,0)","v":0},{"$f":"D28","v":0},{"$f":"IF(pt_search='Periodic table'!F28,1,0)","v":0},{"$f":"F28","v":0},{"$f":"IF(pt_search='Periodic table'!H28,1,0)","v":0},{"$f":"H28","v":0},{"$f":"IF(pt_search='Periodic table'!J28,1,0)","v":0},{"$f":"J28","v":0},{"$f":"IF(pt_search='Periodic table'!L28,1,0)","v":0},{"$f":"L28","v":0},{"$f":"IF(pt_search='Periodic table'!N28,1,0)","v":0},{"$f":"N28","v":0},{"$f":"IF(pt_search='Periodic table'!P28,1,0)","v":0},{"$f":"P28","v":0},{"$f":"IF(pt_search='Periodic table'!R28,1,0)","v":0},{"$f":"R28","v":0},{"$f":"IF(pt_search='Periodic table'!T28,1,0)","v":0},{"$f":"T28","v":0},{"$f":"IF(pt_search='Periodic table'!V28,1,0)","v":0},{"$f":"V28","v":0},{"$f":"IF(pt_search='Periodic table'!X28,1,0)","v":0},{"$f":"X28","v":0},{"$f":"IF(pt_search='Periodic table'!Z28,1,0)","v":0},{"$f":"Z28","v":0},{"$f":"IF(pt_search='Periodic table'!AB28,1,0)","v":0},{"$f":"AB28","v":0},{"$f":"IF(pt_search='Periodic table'!AD28,1,0)","v":0},{"$f":"AD28","v":0},{"$f":"IF(pt_search='Periodic table'!AF28,1,0)","v":0},{"$f":"AF28","v":0},{"$f":"IF(pt_search='Periodic table'!AH28,1,0)","v":0},{"$f":"AH28","v":0},{"$f":"IF(pt_search='Periodic table'!AJ28,1,0)","v":0},{"$f":"AJ28","v":0},{"$f":"IF(pt_search='Periodic table'!AL28,1,0)","v":0},{"$f":"AL28","v":0}]
[{"$nulls":3},{"$f":"IFERROR(IF(pt_search <> \"\",IF(SEARCH(pt_search,_FV('Periodic table'!D29,\"name\")),1,0),0),0)","v":0},{"$f":"D28","v":0},{"$f":"IFERROR(IF(pt_search <> \"\",IF(SEARCH(pt_search,_FV('Periodic table'!F29,\"name\")),1,0),0),0)","v":0},{"$f":"F28","v":0},{"$f":"IFERROR(IF(pt_search <> \"\",IF(SEARCH(pt_search,_FV('Periodic table'!H29,\"name\")),1,0),0),0)","v":0},{"$f":"H28","v":0},{"$f":"IFERROR(IF(pt_search <> \"\",IF(SEARCH(pt_search,_FV('Periodic table'!J29,\"name\")),1,0),0),0)","v":0},{"$f":"J28","v":0},{"$f":"IFERROR(IF(pt_search <> \"\",IF(SEARCH(pt_search,_FV('Periodic table'!L29,\"name\")),1,0),0),0)","v":0},{"$f":"L28","v":0},{"$f":"IFERROR(IF(pt_search <> \"\",IF(SEARCH(pt_search,_FV('Periodic table'!N29,\"name\")),1,0),0),0)","v":0},{"$f":"N28","v":0},{"$f":"IFERROR(IF(pt_search <> \"\",IF(SEARCH(pt_search,_FV('Periodic table'!P29,\"name\")),1,0),0),0)","v":0},{"$f":"P28","v":0},{"$f":"IFERROR(IF(pt_search <> \"\",IF(SEARCH(pt_search,_FV('Periodic table'!R29,\"name\")),1,0),0),0)","v":0},{"$f":"R28","v":0},{"$f":"IFERROR(IF(pt_search <> \"\",IF(SEARCH(pt_search,_FV('Periodic table'!T29,\"name\")),1,0),0),0)","v":0},{"$f":"T28","v":0},{"$f":"IFERROR(IF(pt_search <> \"\",IF(SEARCH(pt_search,_FV('Periodic table'!V29,\"name\")),1,0),0),0)","v":0},{"$f":"V28","v":0},{"$f":"IFERROR(IF(pt_search <> \"\",IF(SEARCH(pt_search,_FV('Periodic table'!X29,\"name\")),1,0),0),0)","v":0},{"$f":"X28","v":0},{"$f":"IFERROR(IF(pt_search <> \"\",IF(SEARCH(pt_search,_FV('Periodic table'!Z29,\"name\")),1,0),0),0)","v":0},{"$f":"Z28","v":0},{"$f":"IFERROR(IF(pt_search <> \"\",IF(SEARCH(pt_search,_FV('Periodic table'!AB29,\"name\")),1,0),0),0)","v":0},{"$f":"AB28","v":0},{"$f":"IFERROR(IF(pt_search <> \"\",IF(SEARCH(pt_search,_FV('Periodic table'!AD29,\"name\")),1,0),0),0)","v":0},{"$f":"AD28","v":0},{"$f":"IFERROR(IF(pt_search <> \"\",IF(SEARCH(pt_search,_FV('Periodic table'!AF29,\"name\")),1,0),0),0)","v":0},{"$f":"AF28","v":0},{"$f":"IFERROR(IF(pt_search <> \"\",IF(SEARCH(pt_search,_FV('Periodic table'!AH29,\"name\")),1,0),0),0)","v":0},{"$f":"AH28","v":0},{"$f":"IFERROR(IF(pt_search <> \"\",IF(SEARCH(pt_search,_FV('Periodic table'!AJ29,\"name\")),1,0),0),0)","v":0},{"$f":"AJ28","v":0},{"$f":"IFERROR(IF(pt_search <> \"\",IF(SEARCH(pt_search,_FV('Periodic table'!AL29,\"name\")),1,0),0),0)","v":0},{"$f":"AL28","v":0}]
[{"$nulls":3},{"$f":"MAX(D25:D27)","v":0},{"$f":"D28","v":0},{"$f":"MAX(F25:F27)","v":0},{"$f":"F28","v":0},{"$f":"MAX(H25:H27)","v":0},{"$f":"H28","v":0},{"$f":"MAX(J25:J27)","v":0},{"$f":"J28","v":0},{"$f":"MAX(L25:L27)","v":0},{"$f":"L28","v":0},{"$f":"MAX(N25:N27)","v":0},{"$f":"N28","v":0},{"$f":"MAX(P25:P27)","v":0},{"$f":"P28","v":0},{"$f":"MAX(R25:R27)","v":0},{"$f":"R28","v":0},{"$f":"MAX(T25:T27)","v":0},{"$f":"T28","v":0},{"$f":"MAX(V25:V27)","v":0},{"$f":"V28","v":0},{"$f":"MAX(X25:X27)","v":0},{"$f":"X28","v":0},{"$f":"MAX(Z25:Z27)","v":0},{"$f":"Z28","v":0},{"$f":"MAX(AB25:AB27)","v":0},{"$f":"AB28","v":0},{"$f":"MAX(AD25:AD27)","v":0},{"$f":"AD28","v":0},{"$f":"MAX(AF25:AF27)","v":0},{"$f":"AF28","v":0},{"$f":"MAX(AH25:AH27)","v":0},{"$f":"AH28","v":0},{"$f":"MAX(AJ25:AJ27)","v":0},{"$f":"AJ28","v":0},{"$f":"MAX(AL25:AL27)","v":0},{"$f":"AL28","v":0}]
[]
["List of chemicals",null,null,{"$f":"IF(pt_search='Periodic table'!D32,1,0)","v":0},{"$f":"D33","v":0},{"$f":"IF(pt_search='Periodic table'!F32,1,0)","v":0},{"$f":"F33","v":0},null,null,{"$f":"IF(pt_search='Periodic table'!J32,1,0)","v":0},{"$f":"J33","v":0},{"$f":"IF(pt_search='Periodic table'!L32,1,0)","v":0},{"$f":"L33","v":0},{"$f":"IF(pt_search='Periodic table'!N32,1,0)","v":0},{"$f":"N33","v":0},{"$f":"IF(pt_search='Periodic table'!P32,1,0)","v":0},{"$f":"P33","v":0},{"$f":"IF(pt_search='Periodic table'!R32,1,0)","v":0},{"$f":"R33","v":0},{"$f":"IF(pt_search='Periodic table'!T32,1,0)","v":0},{"$f":"T33","v":0},{"$f":"IF(pt_search='Periodic table'!V32,1,0)","v":0},{"$f":"V33","v":0},{"$f":"IF(pt_search='Periodic table'!X32,1,0)","v":0},{"$f":"X33","v":0},{"$f":"IF(pt_search='Periodic table'!Z32,1,0)","v":0},{"$f":"Z33","v":0},{"$f":"IF(pt_search='Periodic table'!AB32,1,0)","v":0},{"$f":"AB33","v":0},{"$f":"IF(pt_search='Periodic table'!AD32,1,0)","v":0},{"$f":"AD33","v":0},{"$f":"IF(pt_search='Periodic table'!AF32,1,0)","v":0},{"$f":"AF33","v":0},{"$f":"IF(pt_search='Periodic table'!AH32,1,0)","v":0},{"$f":"AH33","v":0},{"$f":"IF(pt_search='Periodic table'!AJ32,1,0)","v":0},{"$f":"AJ33","v":0},{"$f":"IF(pt_search='Periodic table'!AL32,1,0)","v":0},{"$f":"AL33","v":0}]
[{"$f":"_xlfn._xlws.SORT(_xlfn._xlws.FILTER(CompundList[Compound], CompundList[Compound]<>\"\"),1)","v":{"$error":"#VALUE!"}},null,null,{"$f":"IF(pt_search='Periodic table'!D33,1,0)","v":0},{"$f":"D33","v":0},{"$f":"IF(pt_search='Periodic table'!F33,1,0)","v":0},{"$f":"F33","v":0},null,null,{"$f":"IF(pt_search='Periodic table'!J33,1,0)","v":0},{"$f":"J33","v":0},{"$f":"IF(pt_search='Periodic table'!L33,1,0)","v":0},{"$f":"L33","v":0},{"$f":"IF(pt_search='Periodic table'!N33,1,0)","v":0},{"$f":"N33","v":0},{"$f":"IF(pt_search='Periodic table'!P33,1,0)","v":0},{"$f":"P33","v":0},{"$f":"IF(pt_search='Periodic table'!R33,1,0)","v":0},{"$f":"R33","v":0},{"$f":"IF(pt_search='Periodic table'!T33,1,0)","v":0},{"$f":"T33","v":0},{"$f":"IF(pt_search='Periodic table'!V33,1,0)","v":0},{"$f":"V33","v":0},{"$f":"IF(pt_search='Periodic table'!X33,1,0)","v":0},{"$f":"X33","v":0},{"$f":"IF(pt_search='Periodic table'!Z33,1,0)","v":0},{"$f":"Z33","v":0},{"$f":"IF(pt_search='Periodic table'!AB33,1,0)","v":0},{"$f":"AB33","v":0},{"$f":"IF(pt_search='Periodic table'!AD33,1,0)","v":0},{"$f":"AD33","v":0},{"$f":"IF(pt_search='Periodic table'!AF33,1,0)","v":0},{"$f":"AF33","v":0},{"$f":"IF(pt_search='Periodic table'!AH33,1,0)","v":0},{"$f":"AH33","v":0},{"$f":"IF(pt_search='Periodic table'!AJ33,1,0)","v":0},{"$f":"AJ33","v":0},{"$f":"IF(pt_search='Periodic table'!AL33,1,0)","v":0},{"$f":"AL33","v":0}]
[{"$error":"#VALUE!"},null,null,{"$f":"IFERROR(IF(pt_search <> \"\",IF(SEARCH(pt_search,_FV('Periodic table'!D34,\"name\")),1,0),0),0)","v":0},{"$f":"D33","v":0},{"$f":"IFERROR(IF(pt_search <> \"\",IF(SEARCH(pt_search,_FV('Periodic table'!F34,\"name\")),1,0),0),0)","v":0},{"$f":"F33","v":0},null,null,{"$f":"IFERROR(IF(pt_search <> \"\",IF(SEARCH(pt_search,_FV('Periodic table'!J34,\"name\")),1,0),0),0)","v":0},{"$f":"J33","v":0},{"$f":"IFERROR(IF(pt_search <> \"\",IF(SEARCH(pt_search,_FV('Periodic table'!L34,\"name\")),1,0),0),0)","v":0},{"$f":"L33","v":0},{"$f":"IFERROR(IF(pt_search <> \"\",IF(SEARCH(pt_search,_FV('Periodic table'!N34,\"name\")),1,0),0),0)","v":0},{"$f":"N33","v":0},{"$f":"IFERROR(IF(pt_search <> \"\",IF(SEARCH(pt_search,_FV('Periodic table'!P34,\"name\")),1,0),0),0)","v":0},{"$f":"P33","v":0},{"$f":"IFERROR(IF(pt_search <> \"\",IF(SEARCH(pt_search,_FV('Periodic table'!R34,\"name\")),1,0),0),0)","v":0},{"$f":"R33","v":0},{"$f":"IFERROR(IF(pt_search <> \"\",IF(SEARCH(pt_search,_FV('Periodic table'!T34,\"name\")),1,0),0),0)","v":0},{"$f":"T33","v":0},{"$f":"IFERROR(IF(pt_search <> \"\",IF(SEARCH(pt_search,_FV('Periodic table'!V34,\"name\")),1,0),0),0)","v":0},{"$f":"V33","v":0},{"$f":"IFERROR(IF(pt_search <> \"\",IF(SEARCH(pt_search,_FV('Periodic table'!X34,\"name\")),1,0),0),0)","v":0},{"$f":"X33","v":0},{"$f":"IFERROR(IF(pt_search <> \"\",IF(SEARCH(pt_search,_FV('Periodic table'!Z34,\"name\")),1,0),0),0)","v":0},{"$f":"Z33","v":0},{"$f":"IFERROR(IF(pt_search <> \"\",IF(SEARCH(pt_search,_FV('Periodic table'!AB34,\"name\")),1,0),0),0)","v":0},{"$f":"AB33","v":0},{"$f":"IFERROR(IF(pt_search <> \"\",IF(SEARCH(pt_search,_FV('Periodic table'!AD34,\"name\")),1,0),0),0)","v":0},{"$f":"AD33","v":0},{"$f":"IFERROR(IF(pt_search <> \"\",IF(SEARCH(pt_search,_FV('Periodic table'!AF34,\"name\")),1,0),0),0)","v":0},{"$f":"AF33","v":0},{"$f":"IFERROR(IF(pt_search <> \"\",IF(SEARCH(pt_search,_FV('Periodic table'!AH34,\"name\")),1,0),0),0)","v":0},{"$f":"AH33","v":0},{"$f":"IFERROR(IF(pt_search <> \"\",IF(SEARCH(pt_search,_FV('Periodic table'!AJ34,\"name\")),1,0),0),0)","v":0},{"$f":"AJ33","v":0},{"$f":"IFERROR(IF(pt_search <> \"\",IF(SEARCH(pt_search,_FV('Periodic table'!AL34,\"name\")),1,0),0),0)","v":0},{"$f":"AL33","v":0}]
[{"$error":"#VALUE!"},null,null,{"$f":"MAX(D30:D32)","v":0},{"$f":"D33","v":0},{"$f":"MAX(F30:F32)","v":0},{"$f":"F33","v":0},null,null,{"$f":"MAX(J30:J32)","v":0},{"$f":"J33","v":0},{"$f":"MAX(L30:L32)","v":0},{"$f":"L33","v":0},{"$f":"MAX(N30:N32)","v":0},{"$f":"N33","v":0},{"$f":"MAX(P30:P32)","v":0},{"$f":"P33","v":0},{"$f":"MAX(R30:R32)","v":0},{"$f":"R33","v":0},{"$f":"MAX(T30:T32)","v":0},{"$f":"T33","v":0},{"$f":"MAX(V30:V32)","v":0},{"$f":"V33","v":0},{"$f":"MAX(X30:X32)","v":0},{"$f":"X33","v":0},{"$f":"MAX(Z30:Z32)","v":0},{"$f":"Z33","v":0},{"$f":"MAX(AB30:AB32)","v":0},{"$f":"AB33","v":0},{"$f":"MAX(AD30:AD32)","v":0},{"$f":"AD33","v":0},{"$f":"MAX(AF30:AF32)","v":0},{"$f":"AF33","v":0},{"$f":"MAX(AH30:AH32)","v":0},{"$f":"AH33","v":0},{"$f":"MAX(AJ30:AJ32)","v":0},{"$f":"AJ33","v":0},{"$f":"MAX(AL30:AL32)","v":0},{"$f":"AL33","v":0}]
[{"$error":"#VALUE!"}]
[{"$error":"#VALUE!"},null,null,{"$f":"IF(pt_search='Periodic table'!D37,1,0)","v":0},{"$f":"D38","v":0},{"$f":"IF(pt_search='Periodic table'!F37,1,0)","v":0},{"$f":"F38","v":0},null,null,{"$f":"IF(pt_search='Periodic table'!J37,1,0)","v":0},{"$f":"J38","v":0},{"$f":"IF(pt_search='Periodic table'!L37,1,0)","v":0},{"$f":"L38","v":0},{"$f":"IF(pt_search='Periodic table'!N37,1,0)","v":0},{"$f":"N38","v":0},{"$f":"IF(pt_search='Periodic table'!P37,1,0)","v":0},{"$f":"P38","v":0},{"$f":"IF(pt_search='Periodic table'!R37,1,0)","v":0},{"$f":"R38","v":0},{"$f":"IF(pt_search='Periodic table'!T37,1,0)","v":0},{"$f":"T38","v":0},{"$f":"IF(pt_search='Periodic table'!V37,1,0)","v":0},{"$f":"V38","v":0},{"$f":"IF(pt_search='Periodic table'!X37,1,0)","v":0},{"$f":"X38","v":0},{"$f":"IF(pt_search='Periodic table'!Z37,1,0)","v":0},{"$f":"Z38","v":0},{"$f":"IF(pt_search='Periodic table'!AB37,1,0)","v":0},{"$f":"AB38","v":0},{"$f":"IF(pt_search='Periodic table'!AD37,1,0)","v":0},{"$f":"AD38","v":0},{"$f":"IF(pt_search='Periodic table'!AF37,1,0)","v":0},{"$f":"AF38","v":0},{"$f":"IF(pt_search='Periodic table'!AH37,1,0)","v":0},{"$f":"AH38","v":0},{"$f":"IF(pt_search='Periodic table'!AJ37,1,0)","v":0},{"$f":"AJ38","v":0},{"$f":"IF(pt_search='Periodic table'!AL37,1,0)","v":0},{"$f":"AL38","v":0}]
[{"$error":"#VALUE!"},null,null,{"$f":"IF(pt_search='Periodic table'!D38,1,0)","v":0},{"$f":"D38","v":0},{"$f":"IF(pt_search='Periodic table'!F38,1,0)","v":0},{"$f":"F38","v":0},null,null,{"$f":"IF(pt_search='Periodic table'!J38,1,0)","v":0},{"$f":"J38","v":0},{"$f":"IF(pt_search='Periodic table'!L38,1,0)","v":0},{"$f":"L38","v":0},{"$f":"IF(pt_search='Periodic table'!N38,1,0)","v":0},{"$f":"N38","v":0},{"$f":"IF(pt_search='Periodic table'!P38,1,0)","v":0},{"$f":"P38","v":0},{"$f":"IF(pt_search='Periodic table'!R38,1,0)","v":0},{"$f":"R38","v":0},{"$f":"IF(pt_search='Periodic table'!T38,1,0)","v":0},{"$f":"T38","v":0},{"$f":"IF(pt_search='Periodic table'!V38,1,0)","v":0},{"$f":"V38","v":0},{"$f":"IF(pt_search='Periodic table'!X38,1,0)","v":0},{"$f":"X38","v":0},{"$f":"IF(pt_search='Periodic table'!Z38,1,0)","v":0},{"$f":"Z38","v":0},{"$f":"IF(pt_search='Periodic table'!AB38,1,0)","v":0},{"$f":"AB38","v":0},{"$f":"IF(pt_search='Periodic table'!AD38,1,0)","v":0},{"$f":"AD38","v":0},{"$f":"IF(pt_search='Periodic table'!AF38,1,0)","v":0},{"$f":"AF38","v":0},{"$f":"IF(pt_search='Periodic table'!AH38,1,0)","v":0},{"$f":"AH38","v":0},{"$f":"IF(pt_search='Periodic table'!AJ38,1,0)","v":0},{"$f":"AJ38","v":0},{"$f":"IF(pt_search='Periodic table'!AL38,1,0)","v":0},{"$f":"AL38","v":0}]
[{"$error":"#VALUE!"},null,null,{"$f":"IFERROR(IF(pt_search <> \"\",IF(SEARCH(pt_search,_FV('Periodic table'!D39,\"name\")),1,0),0),0)","v":0},{"$f":"D38","v":0},{"$f":"IFERROR(IF(pt_search <> \"\",IF(SEARCH(pt_search,_FV('Periodic table'!F39,\"name\")),1,0),0),0)","v":0},{"$f":"F38","v":0},null,null,{"$f":"IFERROR(IF(pt_search <> \"\",IF(SEARCH(pt_search,_FV('Periodic table'!J39,\"name\")),1,0),0),0)","v":0},{"$f":"J38","v":0},{"$f":"IFERROR(IF(pt_search <> \"\",IF(SEARCH(pt_search,_FV('Periodic table'!L39,\"name\")),1,0),0),0)","v":0},{"$f":"L38","v":0},{"$f":"IFERROR(IF(pt_search <> \"\",IF(SEARCH(pt_search,_FV('Periodic table'!N39,\"name\")),1,0),0),0)","v":0},{"$f":"N38","v":0},{"$f":"IFERROR(IF(pt_search <> \"\",IF(SEARCH(pt_search,_FV('Periodic table'!P39,\"name\")),1,0),0),0)","v":0},{"$f":"P38","v":0},{"$f":"IFERROR(IF(pt_search <> \"\",IF(SEARCH(pt_search,_FV('Periodic table'!R39,\"name\")),1,0),0),0)","v":0},{"$f":"R38","v":0},{"$f":"IFERROR(IF(pt_search <> \"\",IF(SEARCH(pt_search,_FV('Periodic table'!T39,\"name\")),1,0),0),0)","v":0},{"$f":"T38","v":0},{"$f":"IFERROR(IF(pt_search <> \"\",IF(SEARCH(pt_search,_FV('Periodic table'!V39,\"name\")),1,0),0),0)","v":0},{"$f":"V38","v":0},{"$f":"IFERROR(IF(pt_search <> \"\",IF(SEARCH(pt_search,_FV('Periodic table'!X39,\"name\")),1,0),0),0)","v":0},{"$f":"X38","v":0},{"$f":"IFERROR(IF(pt_search <> \"\",IF(SEARCH(pt_search,_FV('Periodic table'!Z39,\"name\")),1,0),0),0)","v":0},{"$f":"Z38","v":0},{"$f":"IFERROR(IF(pt_search <> \"\",IF(SEARCH(pt_search,_FV('Periodic table'!AB39,\"name\")),1,0),0),0)","v":0},{"$f":"AB38","v":0},{"$f":"IFERROR(IF(pt_search <> \"\",IF(SEARCH(pt_search,_FV('Periodic table'!AD39,\"name\")),1,0),0),0)","v":0},{"$f":"AD38","v":0},{"$f":"IFERROR(IF(pt_search <> \"\",IF(SEARCH(pt_search,_FV('Periodic table'!AF39,\"name\")),1,0),0),0)","v":0},{"$f":"AF38","v":0},{"$f":"IFERROR(IF(pt_search <> \"\",IF(SEARCH(pt_search,_FV('Periodic table'!AH39,\"name\")),1,0),0),0)","v":0},{"$f":"AH38","v":0},{"$f":"IFERROR(IF(pt_search <> \"\",IF(SEARCH(pt_search,_FV('Periodic table'!AJ39,\"name\")),1,0),0),0)","v":0},{"$f":"AJ38","v":0},{"$f":"IFERROR(IF(pt_search <> \"\",IF(SEARCH(pt_search,_FV('Periodic table'!AL39,\"name\")),1,0),0),0)","v":0},{"$f":"AL38","v":0}]
[{"$error":"#VALUE!"},null,null,{"$f":"MAX(D35:D37)","v":0},{"$f":"D38","v":0},{"$f":"MAX(F35:F37)","v":0},{"$f":"F38","v":0},null,null,{"$f":"MAX(J35:J37)","v":0},{"$f":"J38","v":0},{"$f":"MAX(L35:L37)","v":0},{"$f":"L38","v":0},{"$f":"MAX(N35:N37)","v":0},{"$f":"N38","v":0},{"$f":"MAX(P35:P37)","v":0},{"$f":"P38","v":0},{"$f":"MAX(R35:R37)","v":0},{"$f":"R38","v":0},{"$f":"MAX(T35:T37)","v":0},{"$f":"T38","v":0},{"$f":"MAX(V35:V37)","v":0},{"$f":"V38","v":0},{"$f":"MAX(X35:X37)","v":0},{"$f":"X38","v":0},{"$f":"MAX(Z35:Z37)","v":0},{"$f":"Z38","v":0},{"$f":"MAX(AB35:AB37)","v":0},{"$f":"AB38","v":0},{"$f":"MAX(AD35:AD37)","v":0},{"$f":"AD38","v":0},{"$f":"MAX(AF35:AF37)","v":0},{"$f":"AF38","v":0},{"$f":"MAX(AH35:AH37)","v":0},{"$f":"AH38","v":0},{"$f":"MAX(AJ35:AJ37)","v":0},{"$f":"AJ38","v":0},{"$f":"MAX(AL35:AL37)","v":0},{"$f":"AL38","v":0}]
[]
[{"$nulls":9},{"$f":"IF(pt_search='Periodic table'!J42,1,0)","v":0},{"$f":"J43","v":0},{"$f":"IF(pt_search='Periodic table'!L42,1,0)","v":0},{"$f":"L43","v":0},{"$f":"IF(pt_search='Periodic table'!N42,1,0)","v":0},{"$f":"N43","v":0},{"$f":"IF(pt_search='Periodic table'!P42,1,0)","v":0},{"$f":"P43","v":0},{"$f":"IF(pt_search='Periodic table'!R42,1,0)","v":0},{"$f":"R43","v":0},{"$f":"IF(pt_search='Periodic table'!T42,1,0)","v":0},{"$f":"T43","v":0},{"$f":"IF(pt_search='Periodic table'!V42,1,0)","v":0},{"$f":"V43","v":0},{"$f":"IF(pt_search='Periodic table'!X42,1,0)","v":0},{"$f":"X43","v":0},{"$f":"IF(pt_search='Periodic table'!Z42,1,0)","v":0},{"$f":"Z43","v":0},{"$f":"IF(pt_search='Periodic table'!AB42,1,0)","v":0},{"$f":"AB43","v":0},{"$f":"IF(pt_search='Periodic table'!AD42,1,0)","v":0},{"$f":"AD43","v":0},{"$f":"IF(pt_search='Periodic table'!AF42,1,0)","v":0},{"$f":"AF43","v":0},{"$f":"IF(pt_search='Periodic table'!AH42,1,0)","v":0},{"$f":"AH43","v":0},{"$f":"IF(pt_search='Periodic table'!AJ42,1,0)","v":0},{"$f":"AJ43","v":0},{"$f":"IF(pt_search='Periodic table'!AL42,1,0)","v":0},{"$f":"AL43","v":0}]
[{"$nulls":9},{"$f":"IF(pt_search='Periodic table'!J43,1,0)","v":0},{"$f":"J43","v":0},{"$f":"IF(pt_search='Periodic table'!L43,1,0)","v":0},{"$f":"L43","v":0},{"$f":"IF(pt_search='Periodic table'!N43,1,0)","v":0},{"$f":"N43","v":0},{"$f":"IF(pt_search='Periodic table'!P43,1,0)","v":0},{"$f":"P43","v":0},{"$f":"IF(pt_search='Periodic table'!R43,1,0)","v":0},{"$f":"R43","v":0},{"$f":"IF(pt_search='Periodic table'!T43,1,0)","v":0},{"$f":"T43","v":0},{"$f":"IF(pt_search='Periodic table'!V43,1,0)","v":0},{"$f":"V43","v":0},{"$f":"IF(pt_search='Periodic table'!X43,1,0)","v":0},{"$f":"X43","v":0},{"$f":"IF(pt_search='Periodic table'!Z43,1,0)","v":0},{"$f":"Z43","v":0},{"$f":"IF(pt_search='Periodic table'!AB43,1,0)","v":0},{"$f":"AB43","v":0},{"$f":"IF(pt_search='Periodic table'!AD43,1,0)","v":0},{"$f":"AD43","v":0},{"$f":"IF(pt_search='Periodic table'!AF43,1,0)","v":0},{"$f":"AF43","v":0},{"$f":"IF(pt_search='Periodic table'!AH43,1,0)","v":0},{"$f":"AH43","v":0},{"$f":"IF(pt_search='Periodic table'!AJ43,1,0)","v":0},{"$f":"AJ43","v":0},{"$f":"IF(pt_search='Periodic table'!AL43,1,0)","v":0},{"$f":"AL43","v":0}]
[{"$nulls":9},{"$f":"IFERROR(IF(pt_search <> \"\",IF(SEARCH(pt_search,_FV('Periodic table'!J44,\"name\")),1,0),0),0)","v":0},{"$f":"J43","v":0},{"$f":"IFERROR(IF(pt_search <> \"\",IF(SEARCH(pt_search,_FV('Periodic table'!L44,\"name\")),1,0),0),0)","v":0},{"$f":"L43","v":0},{"$f":"IFERROR(IF(pt_search <> \"\",IF(SEARCH(pt_search,_FV('Periodic table'!N44,\"name\")),1,0),0),0)","v":0},{"$f":"N43","v":0},{"$f":"IFERROR(IF(pt_search <> \"\",IF(SEARCH(pt_search,_FV('Periodic table'!P44,\"name\")),1,0),0),0)","v":0},{"$f":"P43","v":0},{"$f":"IFERROR(IF(pt_search <> \"\",IF(SEARCH(pt_search,_FV('Periodic table'!R44,\"name\")),1,0),0),0)","v":0},{"$f":"R43","v":0},{"$f":"IFERROR(IF(pt_search <> \"\",IF(SEARCH(pt_search,_FV('Periodic table'!T44,\"name\")),1,0),0),0)","v":0},{"$f":"T43","v":0},{"$f":"IFERROR(IF(pt_search <> \"\",IF(SEARCH(pt_search,_FV('Periodic table'!V44,\"name\")),1,0),0),0)","v":0},{"$f":"V43","v":0},{"$f":"IFERROR(IF(pt_search <> \"\",IF(SEARCH(pt_search,_FV('Periodic table'!X44,\"name\")),1,0),0),0)","v":0},{"$f":"X43","v":0},{"$f":"IFERROR(IF(pt_search <> \"\",IF(SEARCH(pt_search,_FV('Periodic table'!Z44,\"name\")),1,0),0),0)","v":0},{"$f":"Z43","v":0},{"$f":"IFERROR(IF(pt_search <> \"\",IF(SEARCH(pt_search,_FV('Periodic table'!AB44,\"name\")),1,0),0),0)","v":0},{"$f":"AB43","v":0},{"$f":"IFERROR(IF(pt_search <> \"\",IF(SEARCH(pt_search,_FV('Periodic table'!AD44,\"name\")),1,0),0),0)","v":0},{"$f":"AD43","v":0},{"$f":"IFERROR(IF(pt_search <> \"\",IF(SEARCH(pt_search,_FV('Periodic table'!AF44,\"name\")),1,0),0),0)","v":0},{"$f":"AF43","v":0},{"$f":"IFERROR(IF(pt_search <> \"\",IF(SEARCH(pt_search,_FV('Periodic table'!AH44,\"name\")),1,0),0),0)","v":0},{"$f":"AH43","v":0},{"$f":"IFERROR(IF(pt_search <> \"\",IF(SEARCH(pt_search,_FV('Periodic table'!AJ44,\"name\")),1,0),0),0)","v":0},{"$f":"AJ43","v":0},{"$f":"IFERROR(IF(pt_search <> \"\",IF(SEARCH(pt_search,_FV('Periodic table'!AL44,\"name\")),1,0),0),0)","v":0},{"$f":"AL43","v":0}]
[{"$nulls":9},{"$f":"MAX(J40:J42)","v":0},{"$f":"J43","v":0},{"$f":"MAX(L40:L42)","v":0},{"$f":"L43","v":0},{"$f":"MAX(N40:N42)","v":0},{"$f":"N43","v":0},{"$f":"MAX(P40:P42)","v":0},{"$f":"P43","v":0},{"$f":"MAX(R40:R42)","v":0},{"$f":"R43","v":0},{"$f":"MAX(T40:T42)","v":0},{"$f":"T43","v":0},{"$f":"MAX(V40:V42)","v":0},{"$f":"V43","v":0},{"$f":"MAX(X40:X42)","v":0},{"$f":"X43","v":0},{"$f":"MAX(Z40:Z42)","v":0},{"$f":"Z43","v":0},{"$f":"MAX(AB40:AB42)","v":0},{"$f":"AB43","v":0},{"$f":"MAX(AD40:AD42)","v":0},{"$f":"AD43","v":0},{"$f":"MAX(AF40:AF42)","v":0},{"$f":"AF43","v":0},{"$f":"MAX(AH40:AH42)","v":0},{"$f":"AH43","v":0},{"$f":"MAX(AJ40:AJ42)","v":0},{"$f":"AJ43","v":0},{"$f":"MAX(AL40:AL42)","v":0},{"$f":"AL43","v":0}]
[]
[{"$nulls":9},{"$f":"IF(pt_search='Periodic table'!J47,1,0)","v":0},{"$f":"J48","v":0},{"$f":"IF(pt_search='Periodic table'!L47,1,0)","v":0},{"$f":"L48","v":0},{"$f":"IF(pt_search='Periodic table'!N47,1,0)","v":0},{"$f":"N48","v":0},{"$f":"IF(pt_search='Periodic table'!P47,1,0)","v":0},{"$f":"P48","v":0},{"$f":"IF(pt_search='Periodic table'!R47,1,0)","v":0},{"$f":"R48","v":0},{"$f":"IF(pt_search='Periodic table'!T47,1,0)","v":0},{"$f":"T48","v":0},{"$f":"IF(pt_search='Periodic table'!V47,1,0)","v":0},{"$f":"V48","v":0},{"$f":"IF(pt_search='Periodic table'!X47,1,0)","v":0},{"$f":"X48","v":0},{"$f":"IF(pt_search='Periodic table'!Z47,1,0)","v":0},{"$f":"Z48","v":0},{"$f":"IF(pt_search='Periodic table'!AB47,1,0)","v":0},{"$f":"AB48","v":0},{"$f":"IF(pt_search='Periodic table'!AD47,1,0)","v":0},{"$f":"AD48","v":0},{"$f":"IF(pt_search='Periodic table'!AF47,1,0)","v":0},{"$f":"AF48","v":0},{"$f":"IF(pt_search='Periodic table'!AH47,1,0)","v":0},{"$f":"AH48","v":0},{"$f":"IF(pt_search='Periodic table'!AJ47,1,0)","v":0},{"$f":"AJ48","v":0},{"$f":"IF(pt_search='Periodic table'!AL47,1,0)","v":0},{"$f":"AL48","v":0}]
[{"$nulls":9},{"$f":"IF(pt_search='Periodic table'!J48,1,0)","v":0},{"$f":"J48","v":0},{"$f":"IF(pt_search='Periodic table'!L48,1,0)","v":0},{"$f":"L48","v":0},{"$f":"IF(pt_search='Periodic table'!N48,1,0)","v":0},{"$f":"N48","v":0},{"$f":"IF(pt_search='Periodic table'!P48,1,0)","v":0},{"$f":"P48","v":0},{"$f":"IF(pt_search='Periodic table'!R48,1,0)","v":0},{"$f":"R48","v":0},{"$f":"IF(pt_search='Periodic table'!T48,1,0)","v":0},{"$f":"T48","v":0},{"$f":"IF(pt_search='Periodic table'!V48,1,0)","v":0},{"$f":"V48","v":0},{"$f":"IF(pt_search='Periodic table'!X48,1,0)","v":0},{"$f":"X48","v":0},{"$f":"IF(pt_search='Periodic table'!Z48,1,0)","v":0},{"$f":"Z48","v":0},{"$f":"IF(pt_search='Periodic table'!AB48,1,0)","v":0},{"$f":"AB48","v":0},{"$f":"IF(pt_search='Periodic table'!AD48,1,0)","v":0},{"$f":"AD48","v":0},{"$f":"IF(pt_search='Periodic table'!AF48,1,0)","v":0},{"$f":"AF48","v":0},{"$f":"IF(pt_search='Periodic table'!AH48,1,0)","v":0},{"$f":"AH48","v":0},{"$f":"IF(pt_search='Periodic table'!AJ48,1,0)","v":0},{"$f":"AJ48","v":0},{"$f":"IF(pt_search='Periodic table'!AL48,1,0)","v":0},{"$f":"AL48","v":0}]
[{"$nulls":9},{"$f":"IFERROR(IF(pt_search <> \"\",IF(SEARCH(pt_search,_FV('Periodic table'!J49,\"name\")),1,0),0),0)","v":0},{"$f":"J48","v":0},{"$f":"IFERROR(IF(pt_search <> \"\",IF(SEARCH(pt_search,_FV('Periodic table'!L49,\"name\")),1,0),0),0)","v":0},{"$f":"L48","v":0},{"$f":"IFERROR(IF(pt_search <> \"\",IF(SEARCH(pt_search,_FV('Periodic table'!N49,\"name\")),1,0),0),0)","v":0},{"$f":"N48","v":0},{"$f":"IFERROR(IF(pt_search <> \"\",IF(SEARCH(pt_search,_FV('Periodic table'!P49,\"name\")),1,0),0),0)","v":0},{"$f":"P48","v":0},{"$f":"IFERROR(IF(pt_search <> \"\",IF(SEARCH(pt_search,_FV('Periodic table'!R49,\"name\")),1,0),0),0)","v":0},{"$f":"R48","v":0},{"$f":"IFERROR(IF(pt_search <> \"\",IF(SEARCH(pt_search,_FV('Periodic table'!T49,\"name\")),1,0),0),0)","v":0},{"$f":"T48","v":0},{"$f":"IFERROR(IF(pt_search <> \"\",IF(SEARCH(pt_search,_FV('Periodic table'!V49,\"name\")),1,0),0),0)","v":0},{"$f":"V48","v":0},{"$f":"IFERROR(IF(pt_search <> \"\",IF(SEARCH(pt_search,_FV('Periodic table'!X49,\"name\")),1,0),0),0)","v":0},{"$f":"X48","v":0},{"$f":"IFERROR(IF(pt_search <> \"\",IF(SEARCH(pt_search,_FV('Periodic table'!Z49,\"name\")),1,0),0),0)","v":0},{"$f":"Z48","v":0},{"$f":"IFERROR(IF(pt_search <> \"\",IF(SEARCH(pt_search,_FV('Periodic table'!AB49,\"name\")),1,0),0),0)","v":0},{"$f":"AB48","v":0},{"$f":"IFERROR(IF(pt_search <> \"\",IF(SEARCH(pt_search,_FV('Periodic table'!AD49,\"name\")),1,0),0),0)","v":0},{"$f":"AD48","v":0},{"$f":"IFERROR(IF(pt_search <> \"\",IF(SEARCH(pt_search,_FV('Periodic table'!AF49,\"name\")),1,0),0),0)","v":0},{"$f":"AF48","v":0},{"$f":"IFERROR(IF(pt_search <> \"\",IF(SEARCH(pt_search,_FV('Periodic table'!AH49,\"name\")),1,0),0),0)","v":0},{"$f":"AH48","v":0},{"$f":"IFERROR(IF(pt_search <> \"\",IF(SEARCH(pt_search,_FV('Periodic table'!AJ49,\"name\")),1,0),0),0)","v":0},{"$f":"AJ48","v":0},{"$f":"IFERROR(IF(pt_search <> \"\",IF(SEARCH(pt_search,_FV('Periodic table'!AL49,\"name\")),1,0),0),0)","v":0},{"$f":"AL48","v":0}]
[{"$nulls":9},{"$f":"MAX(J45:J47)","v":0},{"$f":"J48","v":0},{"$f":"MAX(L45:L47)","v":0},{"$f":"L48","v":0},{"$f":"MAX(N45:N47)","v":0},{"$f":"N48","v":0},{"$f":"MAX(P45:P47)","v":0},{"$f":"P48","v":0},{"$f":"MAX(R45:R47)","v":0},{"$f":"R48","v":0},{"$f":"MAX(T45:T47)","v":0},{"$f":"T48","v":0},{"$f":"MAX(V45:V47)","v":0},{"$f":"V48","v":0},{"$f":"MAX(X45:X47)","v":0},{"$f":"X48","v":0},{"$f":"MAX(Z45:Z47)","v":0},{"$f":"Z48","v":0},{"$f":"MAX(AB45:AB47)","v":0},{"$f":"AB48","v":0},{"$f":"MAX(AD45:AD47)","v":0},{"$f":"AD48","v":0},{"$f":"MAX(AF45:AF47)","v":0},{"$f":"AF48","v":0},{"$f":"MAX(AH45:AH47)","v":0},{"$f":"AH48","v":0},{"$f":"MAX(AJ45:AJ47)","v":0},{"$f":"AJ48","v":0},{"$f":"MAX(AL45:AL47)","v":0},{"$f":"AL48","v":0}]

{"sheet":"Elements","index":3,"n_rows":126,"n_cols":4,"rows_kept":126,"merged":[[4,2,4,5],[5,2,5,3],[5,4,5,5]]}
[]
[]
[null,"Compare elemental properties"]
[null,"Use the table below to add elemental properties and compare them. "]
[null,null,"Click the icon next to an element to view more data about it."]
[null,null,"To add more columns of information, select an element and then click on the Add Column icon in the top right corner of the list."]
[]
[null,"Blank","Element","Atomic symbol"]
[null,null,{"$error":"#VALUE!"},{"$f":"_FV(Table1[[#This Row],[Element]],\"atomic symbol\",TRUE)","v":"H"}]
[null,null,{"$error":"#VALUE!"},{"$f":"_FV(Table1[[#This Row],[Element]],\"atomic symbol\",TRUE)","v":"He"}]
[null,null,{"$error":"#VALUE!"},{"$f":"_FV(Table1[[#This Row],[Element]],\"atomic symbol\",TRUE)","v":"Li"}]
[null,null,{"$error":"#VALUE!"},{"$f":"_FV(Table1[[#This Row],[Element]],\"atomic symbol\",TRUE)","v":"Be"}]
[null,null,{"$error":"#VALUE!"},{"$f":"_FV(Table1[[#This Row],[Element]],\"atomic symbol\",TRUE)","v":"B"}]
[null,null,{"$error":"#VALUE!"},{"$f":"_FV(Table1[[#This Row],[Element]],\"atomic symbol\",TRUE)","v":"C"}]
[null,null,{"$error":"#VALUE!"},{"$f":"_FV(Table1[[#This Row],[Element]],\"atomic symbol\",TRUE)","v":"N"}]
[null,null,{"$error":"#VALUE!"},{"$f":"_FV(Table1[[#This Row],[Element]],\"atomic symbol\",TRUE)","v":"O"}]
[null,null,{"$error":"#VALUE!"},{"$f":"_FV(Table1[[#This Row],[Element]],\"atomic symbol\",TRUE)","v":"F"}]
[null,null,{"$error":"#VALUE!"},{"$f":"_FV(Table1[[#This Row],[Element]],\"atomic symbol\",TRUE)","v":"Ne"}]
[null,null,{"$error":"#VALUE!"},{"$f":"_FV(Table1[[#This Row],[Element]],\"atomic symbol\",TRUE)","v":"Na"}]
[null,null,{"$error":"#VALUE!"},{"$f":"_FV(Table1[[#This Row],[Element]],\"atomic symbol\",TRUE)","v":"Mg"}]
[null,null,{"$error":"#VALUE!"},{"$f":"_FV(Table1[[#This Row],[Element]],\"atomic symbol\",TRUE)","v":"Al"}]
[null,null,{"$error":"#VALUE!"},{"$f":"_FV(Table1[[#This Row],[Element]],\"atomic symbol\",TRUE)","v":"Si"}]
[null,null,{"$error":"#VALUE!"},{"$f":"_FV(Table1[[#This Row],[Element]],\"atomic symbol\",TRUE)","v":"P"}]
[null,null,{"$error":"#VALUE!"},{"$f":"_FV(Table1[[#This Row],[Element]],\"atomic symbol\",TRUE)","v":"S"}]
[null,null,{"$error":"#VALUE!"},{"$f":"_FV(Table1[[#This Row],[Element]],\"atomic symbol\",TRUE)","v":"Cl"}]
[null,null,{"$error":"#VALUE!"},{"$f":"_FV(Table1[[#This Row],[Element]],\"atomic symbol\",TRUE)","v":"Ar"}]
[null,null,{"$error":"#VALUE!"},{"$f":"_FV(Table1[[#This Row],[Element]],\"atomic symbol\",TRUE)","v":"K"}]
[null,null,{"$error":"#VALUE!"},{"$f":"_FV(Table1[[#This Row],[Element]],\"atomic symbol\",TRUE)","v":"Ca"}]
[null,null,{"$error":"#VALUE!"},{"$f":"_FV(Table1[[#This Row],[Element]],\"atomic symbol\",TRUE)","v":"Sc"}]
[null,null,{"$error":"#VALUE!"},{"$f":"_FV(Table1[[#This Row],[Element]],\"atomic symbol\",TRUE)","v":"Ti"}]
[null,null,{"$error":"#VALUE!"},{"$f":"_FV(Table1[[#This Row],[Element]],\"atomic symbol\",TRUE)","v":"V"}]
[null,null,{"$error":"#VALUE!"},{"$f":"_FV(Table1[[#This Row],[Element]],\"atomic symbol\",TRUE)","v":"Cr"}]
[null,null,{"$error":"#VALUE!"},{"$f":"_FV(Table1[[#This Row],[Element]],\"atomic symbol\",TRUE)","v":"Mn"}]
[null,null,{"$error":"#VALUE!"},{"$f":"_FV(Table1[[#This Row],[Element]],\"atomic symbol\",TRUE)","v":"Fe"}]
[null,null,{"$error":"#VALUE!"},{"$f":"_FV(Table1[[#This Row],[Element]],\"atomic symbol\",TRUE)","v":"Co"}]
[null,null,{"$error":"#VALUE!"},{"$f":"_FV(Table1[[#This Row],[Element]],\"atomic symbol\",TRUE)","v":"Ni"}]
[null,null,{"$error":"#VALUE!"},{"$f":"_FV(Table1[[#This Row],[Element]],\"atomic symbol\",TRUE)","v":"Cu"}]
[null,null,{"$error":"#VALUE!"},{"$f":"_FV(Table1[[#This Row],[Element]],\"atomic symbol\",TRUE)","v":"Zn"}]
[null,null,{"$error":"#VALUE!"},{"$f":"_FV(Table1[[#This Row],[Element]],\"atomic symbol\",TRUE)","v":"Ga"}]
[null,null,{"$error":"#VALUE!"},{"$f":"_FV(Table1[[#This Row],[Element]],\"atomic symbol\",TRUE)","v":"Ge"}]
[null,null,{"$error":"#VALUE!"},{"$f":"_FV(Table1[[#This Row],[Element]],\"atomic symbol\",TRUE)","v":"As"}]
[null,null,{"$error":"#VALUE!"},{"$f":"_FV(Table1[[#This Row],[Element]],\"atomic symbol\",TRUE)","v":"Se"}]
[null,null,{"$error":"#VALUE!"},{"$f":"_FV(Table1[[#This Row],[Element]],\"atomic symbol\",TRUE)","v":"Br"}]
[null,null,{"$error":"#VALUE!"},{"$f":"_FV(Table1[[#This Row],[Element]],\"atomic symbol\",TRUE)","v":"Kr"}]
[null,null,{"$error":"#VALUE!"},{"$f":"_FV(Table1[[#This Row],[Element]],\"atomic symbol\",TRUE)","v":"Rb"}]
[null,null,{"$error":"#VALUE!"},{"$f":"_FV(Table1[[#This Row],[Element]],\"atomic symbol\",TRUE)","v":"Sr"}]
[null,null,{"$error":"#VALUE!"},{"$f":"_FV(Table1[[#This Row],[Element]],\"atomic symbol\",TRUE)","v":"Y"}]
[null,null,{"$error":"#VALUE!"},{"$f":"_FV(Table1[[#This Row],[Element]],\"atomic symbol\",TRUE)","v":"Zr"}]
[null,null,{"$error":"#VALUE!"},{"$f":"_FV(Table1[[#This Row],[Element]],\"atomic symbol\",TRUE)","v":"Nb"}]
[null,null,{"$error":"#VALUE!"},{"$f":"_FV(Table1[[#This Row],[Element]],\"atomic symbol\",TRUE)","v":"Mo"}]
[null,null,{"$error":"#VALUE!"},{"$f":"_FV(Table1[[#This Row],[Element]],\"atomic symbol\",TRUE)","v":"Tc"}]
[null,null,{"$error":"#VALUE!"},{"$f":"_FV(Table1[[#This Row],[Element]],\"atomic symbol\",TRUE)","v":"Ru"}]
[null,null,{"$error":"#VALUE!"},{"$f":"_FV(Table1[[#This Row],[Element]],\"atomic symbol\",TRUE)","v":"Rh"}]
[null,null,{"$error":"#VALUE!"},{"$f":"_FV(Table1[[#This Row],[Element]],\"atomic symbol\",TRUE)","v":"Pd"}]
[null,null,{"$error":"#VALUE!"},{"$f":"_FV(Table1[[#This Row],[Element]],\"atomic symbol\",TRUE)","v":"Ag"}]
[null,null,{"$error":"#VALUE!"},{"$f":"_FV(Table1[[#This Row],[Element]],\"atomic symbol\",TRUE)","v":"Cd"}]
[null,null,{"$error":"#VALUE!"},{"$f":"_FV(Table1[[#This Row],[Element]],\"atomic symbol\",TRUE)","v":"In"}]
[null,null,{"$error":"#VALUE!"},{"$f":"_FV(Table1[[#This Row],[Element]],\"atomic symbol\",TRUE)","v":"Sn"}]
[null,null,{"$error":"#VALUE!"},{"$f":"_FV(Table1[[#This Row],[Element]],\"atomic symbol\",TRUE)","v":"Sb"}]
[null,null,{"$error":"#VALUE!"},{"$f":"_FV(Table1[[#This Row],[Element]],\"atomic symbol\",TRUE)","v":"Te"}]
[null,null,{"$error":"#VALUE!"},{"$f":"_FV(Table1[[#This Row],[Element]],\"atomic symbol\",TRUE)","v":"I"}]
[null,null,{"$error":"#VALUE!"},{"$f":"_FV(Table1[[#This Row],[Element]],\"atomic symbol\",TRUE)","v":"Xe"}]
[null,null,{"$error":"#VALUE!"},{"$f":"_FV(Table1[[#This Row],[Element]],\"atomic symbol\",TRUE)","v":"Cs"}]
[null,null,{"$error":"#VALUE!"},{"$f":"_FV(Table1[[#This Row],[Element]],\"atomic symbol\",TRUE)","v":"Ba"}]
[null,null,{"$error":"#VALUE!"},{"$f":"_FV(Table1[[#This Row],[Element]],\"atomic symbol\",TRUE)","v":"La"}]
[null,null,{"$error":"#VALUE!"},{"$f":"_FV(Table1[[#This Row],[Element]],\"atomic symbol\",TRUE)","v":"Ce"}]
[null,null,{"$error":"#VALUE!"},{"$f":"_FV(Table1[[#This Row],[Element]],\"atomic symbol\",TRUE)","v":"Pr"}]
[null,null,{"$error":"#VALUE!"},{"$f":"_FV(Table1[[#This Row],[Element]],\"atomic symbol\",TRUE)","v":"Nd"}]
[null,null,{"$error":"#VALUE!"},{"$f":"_FV(Table1[[#This Row],[Element]],\"atomic symbol\",TRUE)","v":"Pm"}]
[null,null,{"$error":"#VALUE!"},{"$f":"_FV(Table1[[#This Row],[Element]],\"atomic symbol\",TRUE)","v":"Sm"}]
[null,null,{"$error":"#VALUE!"},{"$f":"_FV(Table1[[#This Row],[Element]],\"atomic symbol\",TRUE)","v":"Eu"}]
[null,null,{"$error":"#VALUE!"},{"$f":"_FV(Table1[[#This Row],[Element]],\"atomic symbol\",TRUE)","v":"Gd"}]
[null,null,{"$error":"#VALUE!"},{"$f":"_FV(Table1[[#This Row],[Element]],\"atomic symbol\",TRUE)","v":"Tb"}]
[null,null,{"$error":"#VALUE!"},{"$f":"_FV(Table1[[#This Row],[Element]],\"atomic symbol\",TRUE)","v":"Dy"}]
[null,null,{"$error":"#VALUE!"},{"$f":"_FV(Table1[[#This Row],[Element]],\"atomic symbol\",TRUE)","v":"Ho"}]
[null,null,{"$error":"#VALUE!"},{"$f":"_FV(Table1[[#This Row],[Element]],\"atomic symbol\",TRUE)","v":"Er"}]
[null,null,{"$error":"#VALUE!"},{"$f":"_FV(Table1[[#This Row],[Element]],\"atomic symbol\",TRUE)","v":"Tm"}]
[null,null,{"$error":"#VALUE!"},{"$f":"_FV(Table1[[#This Row],[Element]],\"atomic symbol\",TRUE)","v":"Yb"}]
[null,null,{"$error":"#VALUE!"},{"$f":"_FV(Table1[[#This Row],[Element]],\"atomic symbol\",TRUE)","v":"Lu"}]
[null,null,{"$error":"#VALUE!"},{"$f":"_FV(Table1[[#This Row],[Element]],\"atomic symbol\",TRUE)","v":"Hf"}]
[null,null,{"$error":"#VALUE!"},{"$f":"_FV(Table1[[#This Row],[Element]],\"atomic symbol\",TRUE)","v":"Ta"}]
[null,null,{"$error":"#VALUE!"},{"$f":"_FV(Table1[[#This Row],[Element]],\"atomic symbol\",TRUE)","v":"W"}]
[null,null,{"$error":"#VALUE!"},{"$f":"_FV(Table1[[#This Row],[Element]],\"atomic symbol\",TRUE)","v":"Re"}]
[null,null,{"$error":"#VALUE!"},{"$f":"_FV(Table1[[#This Row],[Element]],\"atomic symbol\",TRUE)","v":"Os"}]
[null,null,{"$error":"#VALUE!"},{"$f":"_FV(Table1[[#This Row],[Element]],\"atomic symbol\",TRUE)","v":"Ir"}]
[null,null,{"$error":"#VALUE!"},{"$f":"_FV(Table1[[#This Row],[Element]],\"atomic symbol\",TRUE)","v":"Pt"}]
[null,null,{"$error":"#VALUE!"},{"$f":"_FV(Table1[[#This Row],[Element]],\"atomic symbol\",TRUE)","v":"Au"}]
[null,null,{"$error":"#VALUE!"},{"$f":"_FV(Table1[[#This Row],[Element]],\"atomic symbol\",TRUE)","v":"Hg"}]
[null,null,{"$error":"#VALUE!"},{"$f":"_FV(Table1[[#This Row],[Element]],\"atomic symbol\",TRUE)","v":"Tl"}]
[null,null,{"$error":"#VALUE!"},{"$f":"_FV(Table1[[#This Row],[Element]],\"atomic symbol\",TRUE)","v":"Pb"}]
[null,null,{"$error":"#VALUE!"},{"$f":"_FV(Table1[[#This Row],[Element]],\"atomic symbol\",TRUE)","v":"Bi"}]
[null,null,{"$error":"#VALUE!"},{"$f":"_FV(Table1[[#This Row],[Element]],\"atomic symbol\",TRUE)","v":"Po"}]
[null,null,{"$error":"#VALUE!"},{"$f":"_FV(Table1[[#This Row],[Element]],\"atomic symbol\",TRUE)","v":"At"}]
[null,null,{"$error":"#VALUE!"},{"$f":"_FV(Table1[[#This Row],[Element]],\"atomic symbol\",TRUE)","v":"Rn"}]
[null,null,{"$error":"#VALUE!"},{"$f":"_FV(Table1[[#This Row],[Element]],\"atomic symbol\",TRUE)","v":"Fr"}]
[null,null,{"$error":"#VALUE!"},{"$f":"_FV(Table1[[#This Row],[Element]],\"atomic symbol\",TRUE)","v":"Ra"}]
[null,null,{"$error":"#VALUE!"},{"$f":"_FV(Table1[[#This Row],[Element]],\"atomic symbol\",TRUE)","v":"Ac"}]
[null,null,{"$error":"#VALUE!"},{"$f":"_FV(Table1[[#This Row],[Element]],\"atomic symbol\",TRUE)","v":"Th"}]
[null,null,{"$error":"#VALUE!"},{"$f":"_FV(Table1[[#This Row],[Element]],\"atomic symbol\",TRUE)","v":"Pa"}]
[null,null,{"$error":"#VALUE!"},{"$f":"_FV(Table1[[#This Row],[Element]],\"atomic symbol\",TRUE)","v":"U"}]
[null,null,{"$error":"#VALUE!"},{"$f":"_FV(Table1[[#This Row],[Element]],\"atomic symbol\",TRUE)","v":"Np"}]
[null,null,{"$error":"#VALUE!"},{"$f":"_FV(Table1[[#This Row],[Element]],\"atomic symbol\",TRUE)","v":"Pu"}]
[null,null,{"$error":"#VALUE!"},{"$f":"_FV(Table1[[#This Row],[Element]],\"atomic symbol\",TRUE)","v":"Am"}]
[null,null,{"$error":"#VALUE!"},{"$f":"_FV(Table1[[#This Row],[Element]],\"atomic symbol\",TRUE)","v":"Cm"}]
[null,null,{"$error":"#VALUE!"},{"$f":"_FV(Table1[[#This Row],[Element]],\"atomic symbol\",TRUE)","v":"Bk"}]
[null,null,{"$error":"#VALUE!"},{"$f":"_FV(Table1[[#This Row],[Element]],\"atomic symbol\",TRUE)","v":"Cf"}]
[null,null,{"$error":"#VALUE!"},{"$f":"_FV(Table1[[#This Row],[Element]],\"atomic symbol\",TRUE)","v":"Es"}]
[null,null,{"$error":"#VALUE!"},{"$f":"_FV(Table1[[#This Row],[Element]],\"atomic symbol\",TRUE)","v":"Fm"}]
[null,null,{"$error":"#VALUE!"},{"$f":"_FV(Table1[[#This Row],[Element]],\"atomic symbol\",TRUE)","v":"Md"}]
[null,null,{"$error":"#VALUE!"},{"$f":"_FV(Table1[[#This Row],[Element]],\"atomic symbol\",TRUE)","v":"No"}]
[null,null,{"$error":"#VALUE!"},{"$f":"_FV(Table1[[#This Row],[Element]],\"atomic symbol\",TRUE)","v":"Lr"}]
[null,null,{"$error":"#VALUE!"},{"$f":"_FV(Table1[[#This Row],[Element]],\"atomic symbol\",TRUE)","v":"Rf"}]
[null,null,{"$error":"#VALUE!"},{"$f":"_FV(Table1[[#This Row],[Element]],\"atomic symbol\",TRUE)","v":"Db"}]
[null,null,{"$error":"#VALUE!"},{"$f":"_FV(Table1[[#This Row],[Element]],\"atomic symbol\",TRUE)","v":"Sg"}]
[null,null,{"$error":"#VALUE!"},{"$f":"_FV(Table1[[#This Row],[Element]],\"atomic symbol\",TRUE)","v":"Bh"}]
[null,null,{"$error":"#VALUE!"},{"$f":"_FV(Table1[[#This Row],[Element]],\"atomic symbol\",TRUE)","v":"Hs"}]
[null,null,{"$error":"#VALUE!"},{"$f":"_FV(Table1[[#This Row],[Element]],\"atomic symbol\",TRUE)","v":"Mt"}]
[null,null,{"$error":"#VALUE!"},{"$f":"_FV(Table1[[#This Row],[Element]],\"atomic symbol\",TRUE)","v":"Ds"}]
[null,null,{"$error":"#VALUE!"},{"$f":"_FV(Table1[[#This Row],[Element]],\"atomic symbol\",TRUE)","v":"Rg"}]
[null,null,{"$error":"#VALUE!"},{"$f":"_FV(Table1[[#This Row],[Element]],\"atomic symbol\",TRUE)","v":"Cn"}]
[null,null,{"$error":"#VALUE!"},{"$f":"_FV(Table1[[#This Row],[Element]],\"atomic symbol\",TRUE)","v":"Nh"}]
[null,null,{"$error":"#VALUE!"},{"$f":"_FV(Table1[[#This Row],[Element]],\"atomic symbol\",TRUE)","v":"Fl"}]
[null,null,{"$error":"#VALUE!"},{"$f":"_FV(Table1[[#This Row],[Element]],\"atomic symbol\",TRUE)","v":"Mc"}]
[null,null,{"$error":"#VALUE!"},{"$f":"_FV(Table1[[#This Row],[Element]],\"atomic symbol\",TRUE)","v":"Lv"}]
[null,null,{"$error":"#VALUE!"},{"$f":"_FV(Table1[[#This Row],[Element]],\"atomic symbol\",TRUE)","v":"Ts"}]
[null,null,{"$error":"#VALUE!"},{"$f":"_FV(Table1[[#This Row],[Element]],\"atomic symbol\",TRUE)","v":"Og"}]

{"sheet":"Compound list","index":4,"n_rows":17,"n_cols":4,"rows_kept":17,"merged":[[3,1,3,4],[4,2,4,4],[5,2,5,4],[6,2,6,4]]}
[]
[]
[null,"Track chemical compounds"]
[null,"Keep track of your favorite chemical compounds and use the Compound properties sheet to learn more about them. To add compounds to the list, edit the examples or type below the last compound in the blue highlighted cell."]
[null,null,"Click the icon next to a compound to view more data about it."]
[null,null,"If you don't see data for a chemical compond, you may need to convert it to the Chemistry data type: select the chemical compound name, go to the Data tab, and in the Data Types gallery, select the Chemistry icon. "]
[null,null,"To add more columns of information, select an element and then click on the Add Column icon in the top right corner of the list."]
[]
[null,"Blank","Compound","Formula"]
[null,null,{"$error":"#VALUE!"},{"$f":"IFERROR(SUBSTITUTE(SUBSTITUTE(SUBSTITUTE(SUBSTITUTE(SUBSTITUTE(SUBSTITUTE(SUBSTITUTE(SUBSTITUTE(SUBSTITUTE(SUBSTITUTE(_FV(C10,\"formula string\",TRUE),\"0\",\"₀\"),\"1\",\"₁\"),\"2\",\"₂\"),\"3\",\"₃\"),\"4\",\"₄\"),\"5\",\"₅\"),\"6\",\"₆\"),\"7\",\"₇\"),\"8\",\"₈\"),\"9\",\"₉\"),\"\")","v":"NH₃"}]
[null,null,{"$error":"#VALUE!"},{"$f":"IFERROR(SUBSTITUTE(SUBSTITUTE(SUBSTITUTE(SUBSTITUTE(SUBSTITUTE(SUBSTITUTE(SUBSTITUTE(SUBSTITUTE(SUBSTITUTE(SUBSTITUTE(_FV(C11,\"formula string\",TRUE),\"0\",\"₀\"),\"1\",\"₁\"),\"2\",\"₂\"),\"3\",\"₃\"),\"4\",\"₄\"),\"5\",\"₅\"),\"6\",\"₆\"),\"7\",\"₇\"),\"8\",\"₈\"),\"9\",\"₉\"),\"\")","v":"CO₂"}]
[null,null,{"$error":"#VALUE!"},{"$f":"IFERROR(SUBSTITUTE(SUBSTITUTE(SUBSTITUTE(SUBSTITUTE(SUBSTITUTE(SUBSTITUTE(SUBSTITUTE(SUBSTITUTE(SUBSTITUTE(SUBSTITUTE(_FV(C12,\"formula string\",TRUE),\"0\",\"₀\"),\"1\",\"₁\"),\"2\",\"₂\"),\"3\",\"₃\"),\"4\",\"₄\"),\"5\",\"₅\"),\"6\",\"₆\"),\"7\",\"₇\"),\"8\",\"₈\"),\"9\",\"₉\"),\"\")","v":"H₂O"}]
[null,null,{"$error":"#VALUE!"},{"$f":"IFERROR(SUBSTITUTE(SUBSTITUTE(SUBSTITUTE(SUBSTITUTE(SUBSTITUTE(SUBSTITUTE(SUBSTITUTE(SUBSTITUTE(SUBSTITUTE(SUBSTITUTE(_FV(C13,\"formula string\",TRUE),\"0\",\"₀\"),\"1\",\"₁\"),\"2\",\"₂\"),\"3\",\"₃\"),\"4\",\"₄\"),\"5\",\"₅\"),\"6\",\"₆\"),\"7\",\"₇\"),\"8\",\"₈\"),\"9\",\"₉\"),\"\")","v":"H₂O₂"}]
[null,null,{"$error":"#VALUE!"},{"$f":"IFERROR(SUBSTITUTE(SUBSTITUTE(SUBSTITUTE(SUBSTITUTE(SUBSTITUTE(SUBSTITUTE(SUBSTITUTE(SUBSTITUTE(SUBSTITUTE(SUBSTITUTE(_FV(C14,\"formula string\",TRUE),\"0\",\"₀\"),\"1\",\"₁\"),\"2\",\"₂\"),\"3\",\"₃\"),\"4\",\"₄\"),\"5\",\"₅\"),\"6\",\"₆\"),\"7\",\"₇\"),\"8\",\"₈\"),\"9\",\"₉\"),\"\")","v":"CH₄"}]
[null,null,{"$error":"#VALUE!"},{"$f":"IFERROR(SUBSTITUTE(SUBSTITUTE(SUBSTITUTE(SUBSTITUTE(SUBSTITUTE(SUBSTITUTE(SUBSTITUTE(SUBSTITUTE(SUBSTITUTE(SUBSTITUTE(_FV(C15,\"formula string\",TRUE),\"0\",\"₀\"),\"1\",\"₁\"),\"2\",\"₂\"),\"3\",\"₃\"),\"4\",\"₄\"),\"5\",\"₅\"),\"6\",\"₆\"),\"7\",\"₇\"),\"8\",\"₈\"),\"9\",\"₉\"),\"\")","v":"O₂U"}]
[null,null,{"$error":"#VALUE!"},{"$f":"IFERROR(SUBSTITUTE(SUBSTITUTE(SUBSTITUTE(SUBSTITUTE(SUBSTITUTE(SUBSTITUTE(SUBSTITUTE(SUBSTITUTE(SUBSTITUTE(SUBSTITUTE(_FV(C16,\"formula string\",TRUE),\"0\",\"₀\"),\"1\",\"₁\"),\"2\",\"₂\"),\"3\",\"₃\"),\"4\",\"₄\"),\"5\",\"₅\"),\"6\",\"₆\"),\"7\",\"₇\"),\"8\",\"₈\"),\"9\",\"₉\"),\"\")","v":"C₁₉H₁₇ClFN₃O₅S"}]
[null,null,{"$error":"#VALUE!"},{"$f":"IFERROR(SUBSTITUTE(SUBSTITUTE(SUBSTITUTE(SUBSTITUTE(SUBSTITUTE(SUBSTITUTE(SUBSTITUTE(SUBSTITUTE(SUBSTITUTE(SUBSTITUTE(_FV(C17,\"formula string\",TRUE),\"0\",\"₀\"),\"1\",\"₁\"),\"2\",\"₂\"),\"3\",\"₃\"),\"4\",\"₄\"),\"5\",\"₅\"),\"6\",\"₆\"),\"7\",\"₇\"),\"8\",\"₈\"),\"9\",\"₉\"),\"\")","v":"NaCl"}]

{"sheet":"Compound properties","index":5,"n_rows":56,"n_cols":32,"rows_kept":56,"merged":[[2,21,3,21],[4,1,4,7],[4,13,5,18],[7,1,7,6],[7,7,7,12],[7,13,7,18],[8,1,8,6],[8,7,8,12],[8,13,8,18]]}
[]
[]
[null,"Explore chemical compound properties",{"$nulls":19},{"$f":"IFERROR(_FV(B5,\"structure diagram\",TRUE), \"\")","v":{"$error":"#VALUE!"}}]
[null,"Select the cell below and choose a chemical using the dropdown arrow."]
[null,{"$error":"#VALUE!"},{"$nulls":18},"blank","Formula","Elements"]
[null,{"$f":"IFERROR(_xlfn.TEXTJOIN(\", \",TRUE,_FV(B5,\"alternate names\",TRUE)),\"\")","v":"ammonia anhydrous, ammonia gas, azane, nitro-sil, spirit of hartshorn"},{"$nulls":19},{"$f":"IFERROR(SUBSTITUTE(SUBSTITUTE(SUBSTITUTE(SUBSTITUTE(SUBSTITUTE(SUBSTITUTE(SUBSTITUTE(SUBSTITUTE(SUBSTITUTE(SUBSTITUTE(_FV(B5,\"formula string\",TRUE),\"0\",\"₀\"),\"1\",\"₁\"),\"2\",\"₂\"),\"3\",\"₃\"),\"4\",\"₄\"),\"5\",\"₅\"),\"6\",\"₆\"),\"7\",\"₇\"),\"8\",\"₈\"),\"9\",\"₉\"),\"\")","v":"NH₃"},{"$f":"TRANSPOSE(_FV(B5,\"element types\",TRUE))","v":{"$error":"#VALUE!"}},{"$error":"#VALUE!"}]
[]
[null,"Molar mass",{"$nulls":5},"Density",{"$nulls":5},"Boiling point",{"$nulls":7},"Periodic table properties"]
[null,{"$f":"IFERROR(_xlfn.FIELDVALUE($B$5,B8),\"\")","v":{"v":17.031,"d":"17.031000"}},{"$nulls":5},{"$f":"IFERROR(_xlfn.FIELDVALUE($B$5,H8),\"\")","v":{"v":6.96E-4,"d":"0.000696"}},{"$nulls":5},{"$f":"IFERROR(_xlfn.FIELDVALUE($B$5,N8),\"\")","v":{"v":-33.33,"d":"-33.330000"}},{"$nulls":6},"✓","Block",{"$f":"IFERROR(_FV(W$6,\"block\"),\"\")","v":"s"},{"$f":"IFERROR(_FV(X$6,\"block\"),\"\")","v":"p"},{"$f":"IFERROR(_FV(Y$6,\"block\"),\"\")","v":""},{"$f":"IFERROR(_FV(Z$6,\"block\"),\"\")","v":""},{"$f":"IFERROR(_FV(AA$6,\"block\"),\"\")","v":""},{"$f":"IFERROR(_FV(AB$6,\"block\"),\"\")","v":""},{"$f":"IFERROR(_FV(AC$6,\"block\"),\"\")","v":""},{"$f":"IFERROR(_FV(AD$6,\"atomic symbol\",TRUE),\"\")","v":""},{"$f":"IFERROR(_FV(AE$6,\"atomic symbol\",TRUE),\"\")","v":""},{"$f":"IFERROR(_FV(AF$6,\"atomic symbol\",TRUE),\"\")","v":""}]
[{"$nulls":20},"✓","Group",{"$f":"IFERROR(_FV(W$6,\"group\"),\"\")","v":1},{"$f":"IFERROR(_FV(X$6,\"group\"),\"\")","v":15},{"$f":"IFERROR(_FV(Y$6,\"group\"),\"\")","v":""},{"$f":"IFERROR(_FV(Z$6,\"group\"),\"\")","v":""},{"$f":"IFERROR(_FV(AA$6,\"group\"),\"\")","v":""},{"$f":"IFERROR(_FV(AB$6,\"group\"),\"\")","v":""},{"$f":"IFERROR(_FV(AC$6,\"group\"),\"\")","v":""},{"$f":"IFERROR(_FV(AD$6,\"atomic number\",TRUE),\"\")","v":""},{"$f":"IFERROR(_FV(AE$6,\"atomic number\",TRUE),\"\")","v":""},{"$f":"IFERROR(_FV(AF$6,\"atomic number\",TRUE),\"\")","v":""}]
[null,"H",{"$nulls":16},"He",null,"✓","Period",{"$f":"IFERROR(_FV(W$6,\"period\"),\"\")","v":1},{"$f":"IFERROR(_FV(X$6,\"period\"),\"\")","v":2},{"$f":"IFERROR(_FV(Y$6,\"period\"),\"\")","v":""},{"$f":"IFERROR(_FV(Z$6,\"period\"),\"\")","v":""},{"$f":"IFERROR(_FV(AA$6,\"period\"),\"\")","v":""},{"$f":"IFERROR(_FV(AB$6,\"period\"),\"\")","v":""},{"$f":"IFERROR(_FV(AC$6,\"period\"),\"\")","v":""},{"$f":"IFERROR(_FV(AD$6,\"atomic mass\",TRUE),\"\")","v":""},{"$f":"IFERROR(_FV(AE$6,\"atomic mass\",TRUE),\"\")","v":""},{"$f":"IFERROR(_FV(AF$6,\"atomic mass\",TRUE),\"\")","v":""}]
[null,"Li","Be",{"$nulls":10},"B","C","N","O","F","Ne",{"$nulls":10},{"$f":"IFERROR(_FV(AD$6,\"melting point\",TRUE),\"\")","v":""},{"$f":"IFERROR(_FV(AE$6,\"melting point\",TRUE),\"\")","v":""},{"$f":"IFERROR(_FV(AF$6,\"melting point\",TRUE),\"\")","v":""}]
[null,"Na","Mg",{"$nulls":10},"Al","Si","P","S","Cl","Ar",null,null,"Basic atomic properties",{"$nulls":7},{"$f":"IFERROR(_FV(AD$6,\"boiling point\",TRUE),\"\")","v":""},{"$f":"IFERROR(_FV(AE$6,\"boiling point\",TRUE),\"\")","v":""},{"$f":"IFERROR(_FV(AF$6,\"boiling point\",TRUE),\"\")","v":""}]
[null,"K","Ca","Sc","Ti","V","Cr","Mn","Fe","Co","Ni","Cu","Zn","Ga","Ge","As","Se","Br","Kr",null,null,"Atomic symbol",{"$f":"IFERROR(_FV(W$6,\"atomic symbol\",TRUE),\"\")","v":"H"},{"$f":"IFERROR(_FV(X$6,\"atomic symbol\",TRUE),\"\")","v":"N"},{"$f":"IFERROR(_FV(Y$6,\"atomic symbol\",TRUE),\"\")","v":""},{"$f":"IFERROR(_FV(Z$6,\"atomic symbol\",TRUE),\"\")","v":""},{"$f":"IFERROR(_FV(AA$6,\"atomic symbol\",TRUE),\"\")","v":""},{"$f":"IFERROR(_FV(AB$6,\"atomic symbol\",TRUE),\"\")","v":""},{"$f":"IFERROR(_FV(AC$6,\"atomic symbol\",TRUE),\"\")","v":""}]
[null,"Rb","Sr","Y","Zr","Nb","Mo","Tc","Ru","Rh","Pd","Ag","Cd","In","Sn","Sb","Te","I","Xe",null,null,"Atomic number",{"$f":"IFERROR(_FV(W$6,\"atomic number\",TRUE),\"\")","v":1},{"$f":"IFERROR(_FV(X$6,\"atomic number\",TRUE),\"\")","v":7},{"$f":"IFERROR(_FV(Y$6,\"atomic number\",TRUE),\"\")","v":""},{"$f":"IFERROR(_FV(Z$6,\"atomic number\",TRUE),\"\")","v":""},{"$f":"IFERROR(_FV(AA$6,\"atomic number\",TRUE),\"\")","v":""},{"$f":"IFERROR(_FV(AB$6,\"atomic number\",TRUE),\"\")","v":""},{"$f":"IFERROR(_FV(AC$6,\"atomic number\",TRUE),\"\")","v":""}]
[null,"Cs","Ba","*","Hf","Ta","W","Re","Os","Ir","Pt","Au","Hg","Tl","Pb","Bi","Po","At","Rn",null,"✓","Atomic mass",{"$f":"IFERROR(_FV(W$6,\"atomic mass\",TRUE),\"\")","v":1.008},{"$f":"IFERROR(_FV(X$6,\"atomic mass\",TRUE),\"\")","v":14.007},{"$f":"IFERROR(_FV(Y$6,\"atomic mass\",TRUE),\"\")","v":""},{"$f":"IFERROR(_FV(Z$6,\"atomic mass\",TRUE),\"\")","v":""},{"$f":"IFERROR(_FV(AA$6,\"atomic mass\",TRUE),\"\")","v":""},{"$f":"IFERROR(_FV(AB$6,\"atomic mass\",TRUE),\"\")","v":""},{"$f":"IFERROR(_FV(AC$6,\"atomic mass\",TRUE),\"\")","v":""},{"$f":"IFERROR(_FV(AD$6,\"block\"),\"\")","v":""},{"$f":"IFERROR(_FV(AE$6,\"block\"),\"\")","v":""},{"$f":"IFERROR(_FV(AF$6,\"block\"),\"\")","v":""}]
[null,"Fr","Ra","**","Rf","Db","Sg","Bh","Hs","Mt","Ds","Rg","Cn","Nh","Fl","Mc","Lv","Ts","Og",null,null,"Melting point",{"$f":"IFERROR(_FV(W$6,\"melting point\",TRUE),\"\")","v":-259.14},{"$f":"IFERROR(_FV(X$6,\"melting point\",TRUE),\"\")","v":-210.1},{"$f":"IFERROR(_FV(Y$6,\"melting point\",TRUE),\"\")","v":""},{"$f":"IFERROR(_FV(Z$6,\"melting point\",TRUE),\"\")","v":""},{"$f":"IFERROR(_FV(AA$6,\"melting point\",TRUE),\"\")","v":""},{"$f":"IFERROR(_FV(AB$6,\"melting point\",TRUE),\"\")","v":""},{"$f":"IFERROR(_FV(AC$6,\"melting point\",TRUE),\"\")","v":""},{"$f":"IFERROR(_FV(AD$6,\"group\"),\"\")","v":""},{"$f":"IFERROR(_FV(AE$6,\"group\"),\"\")","v":""},{"$f":"IFERROR(_FV(AF$6,\"group\"),\"\")","v":""}]
[{"$nulls":20},"✓","Boiling point",{"$f":"IFERROR(_FV(W$6,\"boiling point\",TRUE),\"\")","v":-252.87},{"$f":"IFERROR(_FV(X$6,\"boiling point\",TRUE),\"\")","v":-195.79},{"$f":"IFERROR(_FV(Y$6,\"boiling point\",TRUE),\"\")","v":""},{"$f":"IFERROR(_FV(Z$6,\"boiling point\",TRUE),\"\")","v":""},{"$f":"IFERROR(_FV(AA$6,\"boiling point\",TRUE),\"\")","v":""},{"$f":"IFERROR(_FV(AB$6,\"boiling point\",TRUE),\"\")","v":""},{"$f":"IFERROR(_FV(AC$6,\"boiling point\",TRUE),\"\")","v":""},{"$f":"IFERROR(_FV(AD$6,\"period\"),\"\")","v":""},{"$f":"IFERROR(_FV(AE$6,\"period\"),\"\")","v":""},{"$f":"IFERROR(_FV(AF$6,\"period\"),\"\")","v":""}]
[{"$nulls":3},"*","La","Ce","Pr","Nd","Pm","Sm","Eu","Gd","Tb","Dy","Ho","Er","Tm","Yb","Lu"]
[{"$nulls":3},"**","Ac","Th","Pa","U","Np","Pu","Am","Cm","Bk","Cf","Es","Fm","Md","No","Lr",null,null,"Chemical properties"]
[{"$nulls":20},"✓","Valence",{"$f":"IFERROR(_FV(W$6,\"valence\"),\"\")","v":1},{"$f":"IFERROR(_FV(X$6,\"valence\"),\"\")","v":3},{"$f":"IFERROR(_FV(Y$6,\"valence\"),\"\")","v":""},{"$f":"IFERROR(_FV(Z$6,\"valence\"),\"\")","v":""},{"$f":"IFERROR(_FV(AA$6,\"valence\"),\"\")","v":""},{"$f":"IFERROR(_FV(AB$6,\"valence\"),\"\")","v":""},{"$f":"IFERROR(_FV(AC$6,\"valence\"),\"\")","v":""},{"$f":"IFERROR(_FV(AD$6,\"valence\"),\"\")","v":""},{"$f":"IFERROR(_FV(AE$6,\"valence\"),\"\")","v":""},{"$f":"IFERROR(_FV(AF$6,\"valence\"),\"\")","v":""}]
[{"$nulls":20},"✓","Electronegativity",{"$f":"IFERROR(_FV(W$6,\"electronegativity\"),\"\")","v":2.2},{"$f":"IFERROR(_FV(X$6,\"electronegativity\"),\"\")","v":3.04},{"$f":"IFERROR(_FV(Y$6,\"electronegativity\"),\"\")","v":""},{"$f":"IFERROR(_FV(Z$6,\"electronegativity\"),\"\")","v":""},{"$f":"IFERROR(_FV(AA$6,\"electronegativity\"),\"\")","v":""},{"$f":"IFERROR(_FV(AB$6,\"electronegativity\"),\"\")","v":""},{"$f":"IFERROR(_FV(AC$6,\"electronegativity\"),\"\")","v":""},{"$f":"IFERROR(_FV(AD$6,\"electronegativity\"),\"\")","v":""},{"$f":"IFERROR(_FV(AE$6,\"electronegativity\"),\"\")","v":""},{"$f":"IFERROR(_FV(AF$6,\"electronegativity\"),\"\")","v":""}]
[{"$nulls":20},"✓","Electron affinity",{"$f":"IFERROR(_FV(W$6,\"electron affinity\",TRUE),\"\")","v":72.8},{"$f":"IFERROR(_FV(X$6,\"electron affinity\",TRUE),\"\")","v":7},{"$f":"IFERROR(_FV(Y$6,\"electron affinity\",TRUE),\"\")","v":""},{"$f":"IFERROR(_FV(Z$6,\"electron affinity\",TRUE),\"\")","v":""},{"$f":"IFERROR(_FV(AA$6,\"electron affinity\",TRUE),\"\")","v":""},{"$f":"IFERROR(_FV(AB$6,\"electron affinity\",TRUE),\"\")","v":""},{"$f":"IFERROR(_FV(AC$6,\"electron affinity\",TRUE),\"\")","v":""},{"$f":"IFERROR(_FV(AD$6,\"electron affinity\",TRUE),\"\")","v":""},{"$f":"IFERROR(_FV(AE$6,\"electron affinity\",TRUE),\"\")","v":""},{"$f":"IFERROR(_FV(AF$6,\"electron affinity\",TRUE),\"\")","v":""}]
[]
[{"$nulls":21},"Atomic size"]
[{"$nulls":20},"✓","Atomic radius",{"$f":"IFERROR(_FV(W6,\"atomic radius\",TRUE),\"\")","v":53},{"$f":"IFERROR(_FV(X6,\"atomic radius\",TRUE),\"\")","v":56},{"$f":"IFERROR(_FV(Y6,\"atomic radius\",TRUE),\"\")","v":""},{"$f":"IFERROR(_FV(Z6,\"atomic radius\",TRUE),\"\")","v":""},{"$f":"IFERROR(_FV(AA6,\"atomic radius\",TRUE),\"\")","v":""},{"$f":"IFERROR(_FV(AB6,\"atomic radius\",TRUE),\"\")","v":""},{"$f":"IFERROR(_FV(AC6,\"atomic radius\",TRUE),\"\")","v":""},{"$f":"IFERROR(_FV(AD6,\"atomic radius\",TRUE),\"\")","v":""},{"$f":"IFERROR(_FV(AE6,\"atomic radius\",TRUE),\"\")","v":""},{"$f":"IFERROR(_FV(AF6,\"atomic radius\",TRUE),\"\")","v":""}]
[{"$nulls":20},"✓","Covalent radius",{"$f":"IFERROR(_FV(W6,\"covalent radius\",TRUE),\"\")","v":31},{"$f":"IFERROR(_FV(X6,\"covalent radius\",TRUE),\"\")","v":71},{"$f":"IFERROR(_FV(Y6,\"covalent radius\",TRUE),\"\")","v":""},{"$f":"IFERROR(_FV(Z6,\"covalent radius\",TRUE),\"\")","v":""},{"$f":"IFERROR(_FV(AA6,\"covalent radius\",TRUE),\"\")","v":""},{"$f":"IFERROR(_FV(AB6,\"covalent radius\",TRUE),\"\")","v":""},{"$f":"IFERROR(_FV(AC6,\"covalent radius\",TRUE),\"\")","v":""},{"$f":"IFERROR(_FV(AD6,\"covalent radius\",TRUE),\"\")","v":""},{"$f":"IFERROR(_FV(AE6,\"covalent radius\",TRUE),\"\")","v":""},{"$f":"IFERROR(_FV(AF6,\"covalent radius\",TRUE),\"\")","v":""}]
[{"$nulls":20},"✓","Van der Waals radius",{"$f":"IFERROR(_FV(W6,\"van der Waals radius\",TRUE),\"\")","v":120},{"$f":"IFERROR(_FV(X6,\"van der Waals radius\",TRUE),\"\")","v":155},{"$f":"IFERROR(_FV(Y6,\"van der Waals radius\",TRUE),\"\")","v":""},{"$f":"IFERROR(_FV(Z6,\"van der Waals radius\",TRUE),\"\")","v":""},{"$f":"IFERROR(_FV(AA6,\"van der Waals radius\",TRUE),\"\")","v":""},{"$f":"IFERROR(_FV(AB6,\"van der Waals radius\",TRUE),\"\")","v":""},{"$f":"IFERROR(_FV(AC6,\"van der Waals radius\",TRUE),\"\")","v":""},{"$f":"IFERROR(_FV(AD6,\"van der Waals radius\",TRUE),\"\")","v":""},{"$f":"IFERROR(_FV(AE6,\"van der Waals radius\",TRUE),\"\")","v":""},{"$f":"IFERROR(_FV(AF6,\"van der Waals radius\",TRUE),\"\")","v":""}]
[]
[{"$nulls":21},"Abundance properties"]
[{"$nulls":20},"✓","Universe",{"$f":"IFERROR(_FV(W6,\"universe abundance\",TRUE),\"\")","v":{"v":75,"d":"75.00"}},{"$f":"IFERROR(_FV(X6,\"universe abundance\",TRUE),\"\")","v":{"v":0.1,"d":"0.100000"}},{"$f":"IFERROR(_FV(Y6,\"universe abundance\",TRUE),\"\")","v":""},{"$f":"IFERROR(_FV(Z6,\"universe abundance\",TRUE),\"\")","v":""},{"$f":"IFERROR(_FV(AA6,\"universe abundance\",TRUE),\"\")","v":""},{"$f":"IFERROR(_FV(AB6,\"universe abundance\",TRUE),\"\")","v":""},{"$f":"IFERROR(_FV(AC6,\"universe abundance\",TRUE),\"\")","v":""},{"$f":"IFERROR(_FV(AD6,\"universe abundance\",TRUE),\"\")","v":""},{"$f":"IFERROR(_FV(AE6,\"universe abundance\",TRUE),\"\")","v":""},{"$f":"IFERROR(_FV(AF6,\"universe abundance\",TRUE),\"\")","v":""}]
[{"$nulls":20},"✓","Solar",{"$f":"IFERROR(_FV(W6,\"solar abundance\",TRUE),\"\")","v":{"v":75,"d":"75.00"}},{"$f":"IFERROR(_FV(X6,\"solar abundance\",TRUE),\"\")","v":{"v":0.1,"d":"0.100000"}},{"$f":"IFERROR(_FV(Y6,\"solar abundance\",TRUE),\"\")","v":""},{"$f":"IFERROR(_FV(Z6,\"solar abundance\",TRUE),\"\")","v":""},{"$f":"IFERROR(_FV(AA6,\"solar abundance\",TRUE),\"\")","v":""},{"$f":"IFERROR(_FV(AB6,\"solar abundance\",TRUE),\"\")","v":""},{"$f":"IFERROR(_FV(AC6,\"solar abundance\",TRUE),\"\")","v":""},{"$f":"IFERROR(_FV(AD6,\"solar abundance\",TRUE),\"\")","v":""},{"$f":"IFERROR(_FV(AE6,\"solar abundance\",TRUE),\"\")","v":""},{"$f":"IFERROR(_FV(AF6,\"solar abundance\",TRUE),\"\")","v":""}]
[{"$nulls":20},"✓","Meterorite",{"$f":"IFERROR(_FV(W6,\"meteorite abundance\",TRUE),\"\")","v":{"v":2.4,"d":"2.40"}},{"$f":"IFERROR(_FV(X6,\"meteorite abundance\",TRUE),\"\")","v":{"v":0.13999999999999999,"d":"0.140000"}},{"$f":"IFERROR(_FV(Y6,\"meteorite abundance\",TRUE),\"\")","v":""},{"$f":"IFERROR(_FV(Z6,\"meteorite abundance\",TRUE),\"\")","v":""},{"$f":"IFERROR(_FV(AA6,\"meteorite abundance\",TRUE),\"\")","v":""},{"$f":"IFERROR(_FV(AB6,\"meteorite abundance\",TRUE),\"\")","v":""},{"$f":"IFERROR(_FV(AC6,\"meteorite abundance\",TRUE),\"\")","v":""},{"$f":"IFERROR(_FV(AD6,\"meteorite abundance\",TRUE),\"\")","v":""},{"$f":"IFERROR(_FV(AE6,\"meteorite abundance\",TRUE),\"\")","v":""},{"$f":"IFERROR(_FV(AF6,\"meteorite abundance\",TRUE),\"\")","v":""}]
[{"$nulls":20},"✓","Crust",{"$f":"IFERROR(_FV(W6,\"crust abundance\",TRUE),\"\")","v":0.15},{"$f":"IFERROR(_FV(X6,\"crust abundance\",TRUE),\"\")","v":{"v":2E-3,"d":"0.002000"}},{"$f":"IFERROR(_FV(Y6,\"crust abundance\",TRUE),\"\")","v":""},{"$f":"IFERROR(_FV(Z6,\"crust abundance\",TRUE),\"\")","v":""},{"$f":"IFERROR(_FV(AA6,\"crust abundance\",TRUE),\"\")","v":""},{"$f":"IFERROR(_FV(AB6,\"crust abundance\",TRUE),\"\")","v":""},{"$f":"IFERROR(_FV(AC6,\"crust abundance\",TRUE),\"\")","v":""},{"$f":"IFERROR(_FV(AD6,\"crust abundance\",TRUE),\"\")","v":""},{"$f":"IFERROR(_FV(AE6,\"crust abundance\",TRUE),\"\")","v":""},{"$f":"IFERROR(_FV(AF6,\"crust abundance\",TRUE),\"\")","v":""}]
[{"$nulls":20},"✓","Ocean",{"$f":"IFERROR(_FV(W6,\"ocean abundance\",TRUE),\"\")","v":{"v":11,"d":"11.00"}},{"$f":"IFERROR(_FV(X6,\"ocean abundance\",TRUE),\"\")","v":{"v":5.0000000000001215E-5,"d":"0.000050"}},{"$f":"IFERROR(_FV(Y6,\"ocean abundance\",TRUE),\"\")","v":""},{"$f":"IFERROR(_FV(Z6,\"ocean abundance\",TRUE),\"\")","v":""},{"$f":"IFERROR(_FV(AA6,\"ocean abundance\",TRUE),\"\")","v":""},{"$f":"IFERROR(_FV(AB6,\"ocean abundance\",TRUE),\"\")","v":""},{"$f":"IFERROR(_FV(AC6,\"ocean abundance\",TRUE),\"\")","v":""},{"$f":"IFERROR(_FV(AD6,\"ocean abundance\",TRUE),\"\")","v":""},{"$f":"IFERROR(_FV(AE6,\"ocean abundance\",TRUE),\"\")","v":""},{"$f":"IFERROR(_FV(AF6,\"ocean abundance\",TRUE),\"\")","v":""}]
[{"$nulls":20},"✓","Human",{"$f":"IFERROR(_FV(W6,\"human abundance\",TRUE),\"\")","v":{"v":10,"d":"10.00"}},{"$f":"IFERROR(_FV(X6,\"human abundance\",TRUE),\"\")","v":{"v":2.6,"d":"2.600000"}},{"$f":"IFERROR(_FV(Y6,\"human abundance\",TRUE),\"\")","v":""},{"$f":"IFERROR(_FV(Z6,\"human abundance\",TRUE),\"\")","v":""},{"$f":"IFERROR(_FV(AA6,\"human abundance\",TRUE),\"\")","v":""},{"$f":"IFERROR(_FV(AB6,\"human abundance\",TRUE),\"\")","v":""},{"$f":"IFERROR(_FV(AC6,\"human abundance\",TRUE),\"\")","v":""},{"$f":"IFERROR(_FV(AD6,\"human abundance\",TRUE),\"\")","v":""},{"$f":"IFERROR(_FV(AE6,\"human abundance\",TRUE),\"\")","v":""},{"$f":"IFERROR(_FV(AF6,\"human abundance\",TRUE),\"\")","v":""}]
[]
[{"$nulls":21},"Crystallographic properties"]
[{"$nulls":21},"Lattice angles",{"$f":"IFERROR(_FV(W6,\"lattice angles\",TRUE),\"\")","v":90},{"$f":"IFERROR(_FV(X6,\"lattice angles\",TRUE),\"\")","v":90},{"$f":"IFERROR(_FV(Y6,\"lattice angles\",TRUE),\"\")","v":""},{"$f":"IFERROR(_FV(Z6,\"lattice angles\",TRUE),\"\")","v":""},{"$f":"IFERROR(_FV(AA6,\"lattice angles\",TRUE),\"\")","v":""},{"$f":"IFERROR(_FV(AB6,\"lattice angles\",TRUE),\"\")","v":""},{"$f":"IFERROR(_FV(AC6,\"lattice angles\",TRUE),\"\")","v":""},{"$f":"IFERROR(_FV(AD6,\"lattice angles\",TRUE),\"\")","v":""},{"$f":"IFERROR(_FV(AE6,\"lattice angles\",TRUE),\"\")","v":""},{"$f":"IFERROR(_FV(AF6,\"lattice angles\",TRUE),\"\")","v":""}]
[{"$nulls":22},90,90]
[{"$nulls":22},120,120]
[{"$nulls":21},"Lattice constants",{"$f":"IFERROR(_FV(W6,\"lattice constants\",TRUE),\"\")","v":470},{"$f":"IFERROR(_FV(X6,\"lattice constants\",TRUE),\"\")","v":386.1},{"$f":"IFERROR(_FV(Y6,\"lattice constants\",TRUE),\"\")","v":""},{"$f":"IFERROR(_FV(Z6,\"lattice constants\",TRUE),\"\")","v":""},{"$f":"IFERROR(_FV(AA6,\"lattice constants\",TRUE),\"\")","v":""},{"$f":"IFERROR(_FV(AB6,\"lattice constants\",TRUE),\"\")","v":""},{"$f":"IFERROR(_FV(AC6,\"lattice constants\",TRUE),\"\")","v":""},{"$f":"IFERROR(_FV(AD6,\"lattice constants\",TRUE),\"\")","v":""},{"$f":"IFERROR(_FV(AE6,\"lattice constants\",TRUE),\"\")","v":""},{"$f":"IFERROR(_FV(AF6,\"lattice constants\",TRUE),\"\")","v":""}]
[{"$nulls":22},470,386.1]
[{"$nulls":22},340,626.5]
[{"$nulls":21},"IUCr space group number",{"$f":"IFERROR(_FV(W6,\"IUCr space group number\",TRUE),\"\")","v":194},{"$f":"IFERROR(_FV(X6,\"IUCr space group number\",TRUE),\"\")","v":194},{"$f":"IFERROR(_FV(Y6,\"IUCr space group number\",TRUE),\"\")","v":""},{"$f":"IFERROR(_FV(Z6,\"IUCr space group number\",TRUE),\"\")","v":""},{"$f":"IFERROR(_FV(AA6,\"IUCr space group number\",TRUE),\"\")","v":""},{"$f":"IFERROR(_FV(AB6,\"IUCr space group number\",TRUE),\"\")","v":""},{"$f":"IFERROR(_FV(AC6,\"IUCr space group number\",TRUE),\"\")","v":""},{"$f":"IFERROR(_FV(AD6,\"IUCr space group number\",TRUE),\"\")","v":""},{"$f":"IFERROR(_FV(AE6,\"IUCr space group number\",TRUE),\"\")","v":""},{"$f":"IFERROR(_FV(AF6,\"IUCr space group number\",TRUE),\"\")","v":""}]
[]
[{"$nulls":21},"Electromagnetic properties"]
[{"$nulls":21},"Volume magnetic susceptibility",{"$f":"IFERROR(_FV(W6,\"volume magnetic susceptibility\",TRUE),\"\")","v":{"v":-2.23E-9,"d":"-0.000000002230"}},{"$f":"IFERROR(_FV(X6,\"volume magnetic susceptibility\",TRUE),\"\")","v":{"v":-6.8e-09,"d":"-0.000000006800"}},{"$f":"IFERROR(_FV(Y6,\"volume magnetic susceptibility\",TRUE),\"\")","v":""},{"$f":"IFERROR(_FV(Z6,\"volume magnetic susceptibility\",TRUE),\"\")","v":""},{"$f":"IFERROR(_FV(AA6,\"volume magnetic susceptibility\",TRUE),\"\")","v":""},{"$f":"IFERROR(_FV(AB6,\"volume magnetic susceptibility\",TRUE),\"\")","v":""},{"$f":"IFERROR(_FV(AC6,\"volume magnetic susceptibility\",TRUE),\"\")","v":""},{"$f":"IFERROR(_FV(AD6,\"volume magnetic susceptibility\",TRUE),\"\")","v":""},{"$f":"IFERROR(_FV(AE6,\"volume magnetic susceptibility\",TRUE),\"\")","v":""},{"$f":"IFERROR(_FV(AF6,\"volume magnetic susceptibility\",TRUE),\"\")","v":""}]
[{"$nulls":21},"Mass magnetic susceptibility",{"$f":"IFERROR(_FV(W6,\"mass magnetic susceptibility\",TRUE),\"\")","v":{"v":-2.48E-8,"d":"-0.00000002480"}},{"$f":"IFERROR(_FV(X6,\"mass magnetic susceptibility\",TRUE),\"\")","v":{"v":-5.4e-09,"d":"-0.00000000540"}},{"$f":"IFERROR(_FV(Y6,\"mass magnetic susceptibility\",TRUE),\"\")","v":""},{"$f":"IFERROR(_FV(Z6,\"mass magnetic susceptibility\",TRUE),\"\")","v":""},{"$f":"IFERROR(_FV(AA6,\"mass magnetic susceptibility\",TRUE),\"\")","v":""},{"$f":"IFERROR(_FV(AB6,\"mass magnetic susceptibility\",TRUE),\"\")","v":""},{"$f":"IFERROR(_FV(AC6,\"mass magnetic susceptibility\",TRUE),\"\")","v":""},{"$f":"IFERROR(_FV(AD6,\"mass magnetic susceptibility\",TRUE),\"\")","v":""},{"$f":"IFERROR(_FV(AE6,\"mass magnetic susceptibility\",TRUE),\"\")","v":""},{"$f":"IFERROR(_FV(AF6,\"mass magnetic susceptibility\",TRUE),\"\")","v":""}]
[{"$nulls":21},"Molar magnetic susceptibility",{"$f":"IFERROR(_FV(W6,\"molar magnetic susceptibility\",TRUE),\"\")","v":{"v":-4.999E-11,"d":"-0.00000000004999"}},{"$f":"IFERROR(_FV(X6,\"molar magnetic susceptibility\",TRUE),\"\")","v":{"v":-1.5E-10,"d":"-0.00000000015000"}},{"$f":"IFERROR(_FV(Y6,\"molar magnetic susceptibility\",TRUE),\"\")","v":""},{"$f":"IFERROR(_FV(Z6,\"molar magnetic susceptibility\",TRUE),\"\")","v":""},{"$f":"IFERROR(_FV(AA6,\"molar magnetic susceptibility\",TRUE),\"\")","v":""},{"$f":"IFERROR(_FV(AB6,\"molar magnetic susceptibility\",TRUE),\"\")","v":""},{"$f":"IFERROR(_FV(AC6,\"molar magnetic susceptibility\",TRUE),\"\")","v":""},{"$f":"IFERROR(_FV(AD6,\"molar magnetic susceptibility\",TRUE),\"\")","v":""},{"$f":"IFERROR(_FV(AE6,\"molar magnetic susceptibility\",TRUE),\"\")","v":""},{"$f":"IFERROR(_FV(AF6,\"molar magnetic susceptibility\",TRUE),\"\")","v":""}]
[]
[{"$nulls":21},"Discovery properties"]
[{"$nulls":21},"Discovery year",{"$f":"IFERROR(_FV(W$6,\"discovery year\",TRUE),\"\")","v":"1766"},{"$f":"IFERROR(_FV(X$6,\"discovery year\",TRUE),\"\")","v":"1772"},{"$f":"IFERROR(_FV(Y$6,\"discovery year\",TRUE),\"\")","v":""},{"$f":"IFERROR(_FV(Z$6,\"discovery year\",TRUE),\"\")","v":""},{"$f":"IFERROR(_FV(AA$6,\"discovery year\",TRUE),\"\")","v":""},{"$f":"IFERROR(_FV(AB$6,\"discovery year\",TRUE),\"\")","v":""},{"$f":"IFERROR(_FV(AC$6,\"discovery year\",TRUE),\"\")","v":""},{"$f":"IFERROR(_FV(AD$6,\"discovery year\",TRUE),\"\")","v":""},{"$f":"IFERROR(_FV(AE$6,\"discovery year\",TRUE),\"\")","v":""},{"$f":"IFERROR(_FV(AF$6,\"discovery year\",TRUE),\"\")","v":""}]
[{"$nulls":21},"Discovery country",{"$f":"IFERROR(_FV(_FV(W6,\"discovery country\",TRUE),\"name\"),\"\")","v":"United Kingdom"},{"$f":"IFERROR(_FV(_FV(X6,\"discovery country\",TRUE),\"name\"),\"\")","v":"United Kingdom"},{"$f":"IFERROR(_FV(_FV(Y6,\"discovery country\",TRUE),\"name\"),\"\")","v":""},{"$f":"IFERROR(_FV(_FV(Z6,\"discovery country\",TRUE),\"name\"),\"\")","v":""},{"$f":"IFERROR(_FV(_FV(AA6,\"discovery country\",TRUE),\"name\"),\"\")","v":""},{"$f":"IFERROR(_FV(_FV(AB6,\"discovery country\",TRUE),\"name\"),\"\")","v":""},{"$f":"IFERROR(_FV(_FV(AC6,\"discovery country\",TRUE),\"name\"),\"\")","v":""},{"$f":"IFERROR(_FV(_FV(AD6,\"discovery country\",TRUE),\"name\"),\"\")","v":""},{"$f":"IFERROR(_FV(_FV(AE6,\"discovery country\",TRUE),\"name\"),\"\")","v":""},{"$f":"IFERROR(_FV(_FV(AF6,\"discovery country\",TRUE),\"name\"),\"\")","v":""}]
[{"$nulls":21},"Discoverers",{"$f":"IFERROR(_FV(_FV(W6,\"discoverers\"),\"full name\",TRUE),\"\")","v":"Henry Cavendish"},{"$f":"IFERROR(_FV(_FV(X6,\"discoverers\"),\"full name\",TRUE),\"\")","v":"Daniel Rutherford"},{"$f":"IFERROR(_FV(_FV(Y6,\"discoverers\"),\"full name\",TRUE),\"\")","v":""},{"$f":"IFERROR(_FV(_FV(Z6,\"discoverers\"),\"full name\",TRUE),\"\")","v":""},{"$f":"IFERROR(_FV(_FV(AA6,\"discoverers\"),\"full name\",TRUE),\"\")","v":""},{"$f":"IFERROR(_FV(_FV(AB6,\"discoverers\"),\"full name\",TRUE),\"\")","v":""},{"$f":"IFERROR(_FV(_FV(AC6,\"discoverers\"),\"full name\",TRUE),\"\")","v":""},{"$f":"IFERROR(_FV(_FV(AD6,\"discoverers\"),\"full name\",TRUE),\"\")","v":""},{"$f":"IFERROR(_FV(_FV(AE6,\"discoverers\"),\"full name\",TRUE),\"\")","v":""},{"$f":"IFERROR(_FV(_FV(AF6,\"discoverers\"),\"full name\",TRUE),\"\")","v":""}]
[{"$nulls":23},"Antoine‐Laurent de Lavoisier"]

{"sheet":"Practice","index":6,"n_rows":32,"n_cols":7,"rows_kept":32}
[]
[]
[null,"Show your understanding"]
[null,"Practice on some basic periodic table and chemical questions."]
[null,"Element questions"]
[]
[null,"Which elements have the following symbols?",{"$nulls":3},"Name 3 elements in the D block."]
[{"$f":"IF(C9,2,IF(C8<>\"\",1,0))","v":0},"H",null,null,{"$f":"IF(G9,2,IF(G8<>\"\",1,0))","v":0},1]
[null,null,{"$f":"IFERROR(IF(_FV(_xlfn.XLOOKUP($C$8,_FV(Table1[Element],\"name\"), Table1[Element],FALSE),\"atomic symbol\",TRUE)=$B$8,TRUE,FALSE),FALSE)","v":false},{"$nulls":3},{"$f":"IFERROR(IF(_FV(_xlfn.XLOOKUP(G8,_FV(Table1[Element],\"NAME\"),Table1[Element],FALSE),\"block\")=\"d\",TRUE,FALSE),FALSE)","v":false}]
[{"$f":"IF(C11,2,IF(C10<>\"\",1,0))","v":0},"Ni",null,null,{"$f":"IF(G11,2,IF(G10<>\"\",1,0))","v":0},2]
[null,null,{"$f":"IFERROR(IF(_FV(_xlfn.XLOOKUP(C10,_FV(Table1[Element],\"name\"), Table1[Element],FALSE),\"atomic symbol\",TRUE)=B10,TRUE,FALSE),FALSE)","v":false},{"$nulls":3},{"$f":"IFERROR(IF(_FV(_xlfn.XLOOKUP(G10,_FV(Table1[Element],\"NAME\"),Table1[Element],FALSE),\"block\")=\"d\",TRUE,FALSE),FALSE)","v":false}]
[{"$f":"IF(C13,2,IF(C12<>\"\",1,0))","v":0},"Rn",null,null,{"$f":"IF(G13,2,IF(G12<>\"\",1,0))","v":0},3]
[null,null,{"$f":"IFERROR(IF(_FV(_xlfn.XLOOKUP(C12,_FV(Table1[Element],\"name\"), Table1[Element],FALSE),\"atomic symbol\",TRUE)=B12,TRUE,FALSE),FALSE)","v":false},{"$nulls":3},{"$f":"IFERROR(IF(_FV(_xlfn.XLOOKUP(G12,_FV(Table1[Element],\"NAME\"),Table1[Element],FALSE),\"block\")=\"d\",TRUE,FALSE),FALSE)","v":false}]
[]
[null,"Which elements have the following atomic numbers?",null,null,{"$f":"IF(SUM(E16:E20)<>6,\"\",\"👏\")","v":""},"Name 3 elements that are commonly found in humans."]
[{"$f":"IF(C17,2,IF(C16<>\"\",1,0))","v":0},13,null,null,{"$f":"IF(G17,2,IF(G16<>\"\",1,0))","v":0},1]
[null,null,{"$f":"IFERROR(IF(_FV(_xlfn.XLOOKUP(C16,_FV(Table1[Element],\"NAME\"),Table1[Element],FALSE),\"atomic number\",TRUE)=B16,TRUE,FALSE),FALSE)","v":false},{"$nulls":3},{"$f":"IFERROR(IF(_FV(_xlfn.XLOOKUP(G16,_FV(Table1[Element],\"NAME\"),Table1[Element],FALSE),\"human abundance\",TRUE)>1,TRUE,FALSE),FALSE)","v":false}]
[{"$f":"IF(C19,2,IF(C18<>\"\",1,0))","v":0},79,null,null,{"$f":"IF(G19,2,IF(G18<>\"\",1,0))","v":0},2]
[null,null,{"$f":"IFERROR(IF(_FV(_xlfn.XLOOKUP(C18,_FV(Table1[Element],\"NAME\"),Table1[Element],FALSE),\"atomic number\",TRUE)=B18,TRUE,FALSE),FALSE)","v":false},{"$nulls":3},{"$f":"IFERROR(IF(_FV(_xlfn.XLOOKUP(G18,_FV(Table1[Element],\"NAME\"),Table1[Element],FALSE),\"human abundance\",TRUE)>1,TRUE,FALSE),FALSE)","v":false}]
[{"$f":"IF(C21,2,IF(C20<>\"\",1,0))","v":0},90,null,null,{"$f":"IF(G21,2,IF(G20<>\"\",1,0))","v":0},3]
[null,null,{"$f":"IFERROR(IF(_FV(_xlfn.XLOOKUP(C20,_FV(Table1[Element],\"NAME\"),Table1[Element],FALSE),\"atomic number\",TRUE)=B20,TRUE,FALSE),FALSE)","v":false},{"$nulls":3},{"$f":"IFERROR(IF(_FV(_xlfn.XLOOKUP(G20,_FV(Table1[Element],\"NAME\"),Table1[Element],FALSE),\"human abundance\",TRUE)>1,TRUE,FALSE),FALSE)","v":false}]
[]
[null,"Chemical questions"]
[]
[null,"Name the chemicals based on the structure diagram and calculate their molar mass."]
[null,null,{"$error":"#VALUE!"},{"$nulls":3},{"$error":"#VALUE!"}]
[null,null,{"$f":"_FV(C26,\"structure diagram\",TRUE)","v":{"$error":"#VALUE!"}},{"$nulls":3},{"$f":"_FV(G26,\"structure diagram\",TRUE)","v":{"$error":"#VALUE!"}}]
[]
[{"$f":"IF(C30,2,IF(C29<>\"\",1,0))","v":0},"Name",null,null,{"$f":"IF(G30,2,IF(G29<>\"\",1,0))","v":0},"Name"]
[null,null,{"$f":"IF(C29=_FV(C26,\"name\"),TRUE,FALSE)","v":false},{"$nulls":3},{"$f":"IF(G29=_FV(G26,\"name\"),TRUE,FALSE)","v":false}]
[{"$f":"IF(C32,2,IF(C31<>\"\",1,0))","v":0},"Molar mass",null,null,{"$f":"IF(G32,2,IF(G31<>\"\",1,0))","v":0},"Molar mass"]
[null,null,{"$f":"IF(C31=_FV(C26,\"molar mass\",TRUE),TRUE,FALSE)","v":false},{"$nulls":3},{"$f":"IF(G31=_FV(G26,\"molar mass\",TRUE),TRUE,FALSE)","v":false}]

{"sheet":"Do more","index":7,"n_rows":18,"n_cols":3,"rows_kept":18,"merged":[[3,1,3,3],[7,2,7,3],[9,2,9,3],[10,2,10,3],[16,2,16,3],[17,2,17,3]]}
[]
[]
[null,"Do more with data types"]
[null,"With linked data types, you can insert and work with reliable data from trusted online data sources. Microsoft has partnered with Wolfram to provide rich, interesting facts and data on numerous subjects that you can use and refresh—all without leaving Excel."]
[null,"Here's how to use data types using the Space data type as an example."]
[null,"❶","Type Earth in the cell below."]
[]
[null,null,"You can type other names for the same thing. For example, you can type Planet Earth if you want."]
[]
[null,"❷","With the cell above selected, go to the Data tab and in the Data Type Gallery menu, select the Space icon. "]
[null,null,"If Excel doesn't recognize the planet, you'll get the option to search for the correct one or try another. "]
[]
[]
[null,"❸ ","Select the Insert Data icon that appears on the right of the cell to see a list of data options. Choose one or more options to add them to the sheet."]
[]
[]
[null,null,"And you're done! Your sheet will populate with all the facts and information you need directly from Excel."]
[null,null,"Check out this article to learn even more about data types"]